Workbook
Name ADRES: #REF!
Name ADRES: #REF!
Name Sname: '[1]Kautex 4WD St.IV P&D:Sachs FL WHL'!$E$4

Sheet PLAN 
C1: PROJE PLANLAMASI | AB1: TARİH :
A4: PROJE ADI: | F4: MÜŞTERİ: | J4: PARÇA NUMARASI: | X4: HEDEF TARİH:
A5: FAALİYETLER | E5: İLGİLİ DOKÜMAN | F5: SORUMLU | G5: TERMİN | H5: DURUM | I5: DURUM GÜNCELLEME TARİHİ | J5: BİR SONRAKİ SEVİYE İÇİN GEÇİŞ İZNİ | L5: YIL:2021 | X5: YIL:2022
L6: 1 | M6: 2 | N6: 3 | O6: 4 | P6: 5 | Q6: 6 | R6: 7 | S6: 8 | T6: 9 | U6: 10 | V6: 11 | W6: 12 | X6: 1 | Y6: 2 | Z6: 3 | AA6: 4 | AB6: 5 | AC6: 6 | AD6: 7 | AE6: 8 | AF6: 9 | AG6: 10 | AH6: 11 | AI6: 12
A7: ML0 ÜRETİM GELİŞTİRME HAZIRLIKLARININ TAMAMLANMASI
A9: 1 | B9: PROJE ÖNGÖRÜLERİNİN BELİRLENMESİ | E9: FR.08.71 | F9: Satış Yöneticisi | H9: Tamamlandı | J9: =IF(AND(H9= "Tamamlandı",H11="Tamamlandı",H13="Tamamlandı",H15="Tamamlandı",H17="Tamamlandı",H19="Tamamlandı",H21="Tamamlandı",H23="Tamamlandı"),"ML1 SEVİYESİNE GEÇİŞ SERBEST.","TAMAMLANMAMIŞ MADDE YA DA MADDELER VAR.") -> ML1 SEVİYESİNE GEÇİŞ SERBEST. | K9: P
K10: G
A11: 2 | B11: PROJE EKİBİNİN OLUŞTURULMASI | E11: FR.07.23 | F11: Proje Lideri | H11: Tamamlandı | K11: P
K12: G
A13: 3 | B13: ÜRETİM KAPASİTESİNİN BELİRLENMESİ | E13: FR.09.23 | F13: Planlama Sorumlusu | H13: Tamamlandı | K13: P
K14: G
A15: 4 | B15: ÖN ÜRÜN AĞACININ OLUŞTURULMASI | E15: FR.08.72 | F15: Satış Yöneticisi | H15: Tamamlandı | K15: P
K16: G
A17: 5 | B17: TEDARİK ZİNCİRİ ARAŞTIRMASI ve ANALİZİ | E17: FR.08.75 | F17: Satınalma Sorumlusu | H17: Tamamlandı | K17: P
K18: G
A19: 6 | B19: TEDARİK ZİNCİRİ RİSK ÖN SINIFLANDIRMASI | E19: FR.08.74 | F19: Satınalma Sorumlusu | H19: Tamamlandı | K19: P
K20: G
A21: 7 | B21: FİZİBİLİTE RAPORUNUN OLUŞTURULMASI | E21: FR.07.01 | F21: Proje Lideri | H21: Tamamlandı | K21: P
K22: G
A23: 8 | B23: ML0 OLGUNLUK SEVİYESİNİN GÖZDEN GEÇİRİLMESİ | E23: FR.07.10 | F23: Tüm Ekip | H23: Tamamlandı | K23: P
K24: G
A25: ML1 ÜRÜN İLE İLGİLİ ŞARTLARI DEĞERLENDİRMENİN TAMAMLANMASI
A27: 9 | B27: ÖZEL KARAKTERİSTİKLERİN BELİRLENMESİ | E27: FR.07.05 | F27: Proje Lideri | H27: Tamamlandı | J27: =IF(AND(H27= "Tamamlandı",H29="Tamamlandı",H31="Tamamlandı",H15="Tamamlandı",H33="Tamamlandı"),"ML2 SEVİYESİNE GEÇİŞ SERBEST.","TAMAMLANMAMIŞ MADDE YA DA MADDELER VAR.") -> ML2 SEVİYESİNE GEÇİŞ SERBEST. | K27: P
K28: G
A29: 10 | B29: MÜŞTERİ ÖZEL İSTEKLERİNİN BELİRLENMESİ | E29: FR.04.08 | F29: Proje Lideri | H29: Tamamlandı | K29: P
K30: G
A31: 11 | B31: FMEA (ÜRÜNE ODAKLANILMIŞ) | E31: FR.06.04 | F31: FMEA Ekibi | H31: Tamamlandı | K31: P
K32: G
A33: 12 | B33: ML1 OLGUNLUK SEVİYESİNİN GÖZDEN GEÇİRİLMESİ | E33: FR.07.10 | F33: Tüm Ekip | H33: Tamamlandı | K33: P
K34: G
A35: ML2 TEDARİK ZİNCİRİNİ BELİRLEMENİN TAMAMLANMASI
A37: 13 | B37: TEDARİK ZİNCİRİ RİSK SINIFLANDIRMASI | E37: FR.08.74 | F37: Satınalma Sorumlusu | H37: Tamamlandı | J37: =IF(AND(H37= "Tamamlandı",H39="Tamamlandı",H41="Tamamlandı",H43="Tamamlandı",H45="Tamamlandı",H47="Tamamlandı",H49="Tamamlandı",H51="Tamamlandı",H53="Tamamlandı",H55="Tamamlandı"),"ML3 SEVİYESİNE GEÇİŞ SERBEST.","TAMAMLANMAMIŞ MADDE YA DA MADDELER VAR.") -> ML3 SEVİYESİNE GEÇİŞ SERBEST. | K37: P
K38: G
A39: 14 | B39: FMEA (ÜRÜNE ve SÜRECE ODAKLANILMIŞ) | E39: FR.06.04 | F39: FMEA Ekibi | H39: Tamamlandı | K39: P
K40: G
A41: 15 | B41: TEDARİKÇİ PROSES DENETİMİ (VDA 6.3) | E41: FR.08.76 | F41: Satınalma Sorumlusu | H41: Tamamlandı | K41: P
K42: G
A43: 16 | B43: TEDARİK ZİNCİRİNİN TANIMLANMASI | E43: FR.08.77 | F43: Satınalma Sorumlusu | H43: Tamamlandı | K43: P
K44: G
A45: 17 | B45: ALTERNATİF TEDARİK ZİNCİRİNİN TANIMLANMASI | E45: FR.08.77 | F45: Satınalma Sorumlusu | H45: Tamamlandı | K45: P
...

Sheet Veri
B2: =TODAY() -> 44185
B3: Tamamlandı
B4: Devam Ediyor
B5: Termini Geçti
A7: ML0 | B7: =IF('PLAN '!H9 ="Tamamlandı",1,0) -> 1 | C7: =IF('PLAN '!H11 ="Tamamlandı",1,0) -> 1 | D7: =IF('PLAN '!H13 ="Tamamlandı",1,0) -> 1 | E7: =IF('PLAN '!H15 ="Tamamlandı",1,0) -> 1 | F7: =IF('PLAN '!H17 ="Tamamlandı",1,0) -> 1 | G7: =IF('PLAN '!H19 ="Tamamlandı",1,0) -> 1 | H7: =IF('PLAN '!H21 ="Tamamlandı",1,0) -> 1 | I7: =IF('PLAN '!H23 ="Tamamlandı",1,0) -> 1 | Q7: =SUM(B7:P7) -> 8 | R7: =Q7*12.5 -> 100 | S7: =R7-100 -> 0
A8: ML1 | B8: =IF('PLAN '!H27 ="Tamamlandı",1,0) -> 1 | C8: =IF('PLAN '!H29 ="Tamamlandı",1,0) -> 1 | D8: =IF('PLAN '!H31 ="Tamamlandı",1,0) -> 1 | E8: =IF('PLAN '!H33 ="Tamamlandı",1,0) -> 1 | Q8: =SUM(B8:P8) -> 4 | R8: =Q8*25 -> 100 | S8: =R8-100 -> 0
A9: ML2 | B9: =IF('PLAN '!H37 ="Tamamlandı",1,0) -> 1 | C9: =IF('PLAN '!H39 ="Tamamlandı",1,0) -> 1 | D9: =IF('PLAN '!H41 ="Tamamlandı",1,0) -> 1 | E9: =IF('PLAN '!H43 ="Tamamlandı",1,0) -> 1 | F9: =IF('PLAN '!H45 ="Tamamlandı",1,0) -> 1 | G9: =IF('PLAN '!H47 ="Tamamlandı",1,0) -> 1 | H9: =IF('PLAN '!H49 ="Tamamlandı",1,0) -> 1 | I9: =IF('PLAN '!H51 ="Tamamlandı",1,0) -> 1 | J9: =IF('PLAN '!H53 ="Tamamlandı",1,0) -> 1 | K9: =IF('PLAN '!H55 ="Tamamlandı",1,0) -> 1 | Q9: =SUM(B9:K9) -> 10 | R9: =Q9*10 -> 100 | S9: =R9-100 -> 0
A10: ML3 | B10: =IF('PLAN '!H59 ="Tamamlandı",1,0) -> 1 | C10: =IF('PLAN '!H61 ="Tamamlandı",1,0) -> 1 | D10: =IF('PLAN '!H63 ="Tamamlandı",1,0) -> 1 | E10: =IF('PLAN '!H65 ="Tamamlandı",1,0) -> 1 | F10: =IF('PLAN '!H67 ="Tamamlandı",1,0) -> 1 | G10: =IF('PLAN '!H69 ="Tamamlandı",1,0) -> 1 | H10: =IF('PLAN '!H71 ="Tamamlandı",1,0) -> 1 | I10: =IF('PLAN '!H73 ="Tamamlandı",1,0) -> 1 | Q10: =SUM(B10:I10) -> 8 | R10: =Q10*12.5 -> 100 | S10: =R10-100 -> 0
A11: ML4 | B11: =IF('PLAN '!H77 ="Tamamlandı",1,0) -> 1 | C11: =IF('PLAN '!H79 ="Tamamlandı",1,0) -> 1 | D11: =IF('PLAN '!H81 ="Tamamlandı",1,0) -> 1 | E11: =IF('PLAN '!H83 ="Tamamlandı",1,0) -> 1 | Q11: =SUM(B11:P11) -> 4 | R11: =Q11*25 -> 100 | S11: =R11-100 -> 0
A12: ML5 | B12: =IF('PLAN '!H87 ="Tamamlandı",1,0) -> 1 | C12: =IF('PLAN '!H89 ="Tamamlandı",1,0) -> 1 | D12: =IF('PLAN '!H91 ="Tamamlandı",1,0) -> 1 | E12: =IF('PLAN '!H93 ="Tamamlandı",1,0) -> 1 | F12: =IF('PLAN '!H95 ="Tamamlandı",1,0) -> 1 | G12: =IF('PLAN '!H97 ="Tamamlandı",1,0) -> 1 | H12: =IF('PLAN '!H99 ="Tamamlandı",1,0) -> 1 | I12: =IF('PLAN '!H101 ="Tamamlandı",1,0) -> 1 | J12: =IF('PLAN '!H103 ="Tamamlandı",1,0) -> 1 | K12: =IF('PLAN '!H105 ="Tamamlandı",1,0) -> 1 | Q12: =SUM(B12:K12) -> 10 | R12: =Q12*10 -> 100 | S12: =R12-100 -> 0
A13: ML6 | B13: =IF('PLAN '!H109 ="Tamamlandı",1,0) -> 0 | C13: =IF('PLAN '!H111 ="Tamamlandı",1,0) -> 0 | D13: =IF('PLAN '!H113 ="Tamamlandı",1,0) -> 0 | E13: =IF('PLAN '!H115 ="Tamamlandı",1,0) -> 0 | F13: =IF('PLAN '!H117 ="Tamamlandı",1,0) -> 0 | Q13: =SUM(B13:F13) -> 0 | R13: =Q13*20 -> 0 | S13: =R13-100 -> -100
A14: ML7 | B14: =IF('PLAN '!H121 ="Tamamlandı",1,0) -> 0 | C14: =IF('PLAN '!H123 ="Tamamlandı",1,0) -> 0 | D14: =IF('PLAN '!H125 ="Tamamlandı",1,0) -> 0 | E14: =IF('PLAN '!H127 ="Tamamlandı",1,0) -> 0 | F14: =IF('PLAN '!H129 ="Tamamlandı",1,0) -> 0 | G14: =IF('PLAN '!H131 ="Tamamlandı",1,0) -> 0 | Q14: =SUM(B14:G14) -> 0 | R14: =Q14*16.667 -> 0 | S14: =R14-100 -> -100
A15: Genel | Q15: =SUM(B7:P14) -> 44 | R15: =Q15*1.82 -> 80.08 | S15: =R15-100 -> -19.92

Sheet Sayfa1
