Workbook

Sheet B-Planungsgespräch
A1: Formular für Bemusterungsplanungsgespräch/Protokoll zur Planung und Abstimmung der Bemusterung | O1: Version | W1: Ersetzt Version
O2: Datum
W3: Unterschrift Kunde
A4: Lieferant | S4: Kunde
A5: Name /Produktionsstandort | S5: Zielwerk
A6: Lieferantennummer mit Index / Duns Code | S6: bei Nutzung It-System Vorgangsnummer:
A8: Berichts Nr. | S8: Berichts-Nr./ Index (falls bek.)
A9: Produkt Bezeichnung | S9: Produkt-Bezeichnung
A10: Teilenummer | S10: Teilenummer:
A11: Zeichnungsnummer | S11: Zeichnungsnummer:
A12: Zeichnungs-Stand / Datum | S12: Zeichnungs-Stand / Datum
A13: Teilebündelung /Produkt-Familien: | S13: Variantenbemusterung:
A15: Setzteil | S15: BMS/BMZ/BMF: Besondere Merkmale 8Sicherheit, Zertifizierung, Funktion)
A18: Befüllpflichtig aller beteiligten Fachbereiche im Falle der Durchführung von Bemusterungsabstimmungsgesprächen:
A19: Teilnehmer Planung /Abstimmung PPF | L19: Name | W19: Abtl. | Z19: Telefon / Email
A20: Lieferant
A21: Disposition
A22: Qualitätsmanagement
A23: Entwicklung
A24: Fertigung (Verbaubarkeit)
A25: Werkstofftechnik / Werkzeugbau
A26: Messtechnik
A27: ….
A28: ….
A29: ….
B31: Produktionsprozess
C32: Bemusterung | V32: Nachbemusterung
D33: Neuteil | V33: Änderung in der Lieferkette
D34: Änderung am Produkt | V34: Aussetzen der Fertigung länger als 12 Monate
D35: Änderung am Produktionsprozess
B36: Bericht sonstiger Muster
B37: gestufte Bemusterung (Bitte unten vereinbaren, die Termine der einzelnen Bemusterungen angeben und die notwendigen Dokumente je Vorgang planen
B38: Grund der gestuften Bemusterung:
B41: Bestätigung Lieferant:
B42: Die vorgestellten Muster wurden bezüglich der bemusterten Merkmale mit serienmäßigen Betriebsmitteln unter serienmäßigen Bedingungen am Serienstandort hergestellt bzw. bei "sonstigen Mustern" gemäß Vereinbarung zwischen Lieferant und Fachbereich Kunde (als Anlage beigefügt). Bezüglich dieser Merkmale sind keine Änderungen bekannt bzw. geplant. Die bei unseren Prüfungen und Bemusterung erzeilten Ergebnisse können für Nachbemusterungen übernommen werden. Sollten trotzdem Änderungen an Teil und/oder Prozess notwendig sein, werden wir diese Nachbemusterung anzeigen.
B45: Name: | P45: Bemerkungen:
B46: Abteilung:
B47: Telefon Nr.:
B48: Fax:
B49: Email:
B50: Datum: | P50: Unterschrift:
B51: Bestätigung der Vorgehensweise gestufte Bemusterung durch Qualitätsmanagement Kaufteile Kunde
B52: Name: | P52: Bemerkungen:
B53: Abteilung:
B54: Telefon Nr.:
B55: Fax:
B56: Email:
B57: Datum: | P57: Unterschrift:
A59: Bemusterungstermin technisch | K59: gestufte Bemusterung | Q59: Schritt 1 | U59: Schritt 2 | Y59: Schritt 3 | AC59: Schritt 4
A61: Bemusterungstermin farblich | K61: ggfs. Liste anfügen | V61: gemeinsam vereinbarter Endtermin
A62: Pkt.No. | B62: Forderungen (Merkmale gemäß Spezifikation) | O62: Vorlagestufe | S62: technische Muster/ Bericht | V62: Schritte der gestuften Bemusterung | Z62: Varianten-bemusterung | AC62: Notiz
O64: 0 | P64: 1 | Q64: 2 | R64: 3 | V64: 1 | W64: 2 | X64: 3 | Y64: 4
B66: Dechblatt zum PPF Bericht | O66: V | P66: V | Q66: V | R66: V | S66: ü | V66: ü | W66: ü | X66: ü | Y66: ü | Z66: ü
A67: 1 | B67: Prüfergebnisse ( z.B. Geometrie, Maß, Funktion, Werkstoff (Festigkeit, physikalische Eigenschaften,…) Gewicht, Haptik, Akustik, Geruch, Aussehen, Oberfläche, Zuverläüssigkeit, ESD-Prüfung, elektrische Sicherheit) | O67: D | P67: D | Q67: V | R67: V
B70: Maßprüfung | G70: Teile je Nest/Form:
B71: Rohteilmessung
B72: Eintzelteilmessung
B73: Standardmessbericht (alle Zeichnungsmerkmale )
B74: Standardlehrenbericht
B75: 3D-Datenvermessung
B76: Schnitte
B77: sonstiges
B79: Werkstoffprüfung
B80: Nachweis Einhaltung Kundenormen (Vorgaben)
B81: Probeentnahmeplan
B82: Metallographie
B83: Chemische Analyse
... B100: sonstiges
A102: 2 | B102: Muster (Anzahl bzw. Liefermenge nach Vereinbarung) | O102: D | P102: V | Q102: V | R102: V | S102: 5 | V102: 5 | W102: 5 | X102: 5 | Y102: 5 | Z102: 2
B103: Rückstellmuster
A104: 3 | B104: Technische Spezifikationen (z.B. Kundenzeichnung, CAD-Daten, Spezifikationen, genehmigte Konstruktionsänderung, Kurzschlussfestigkeit, Spannungsabsicherung, Funktionale Sicherheit (FISU)) | O104: D | P104: D | Q104: V | R104: V
B107: freigegebene Kunden-Zeichnung
A108: 4 | B108: Produkt -FMEA | O108: D | P108: D | Q108: D | R108: D
A109: 5 | B109: Konstruktions-, Entwicklungsfreigabe des Lieferanten bei Entwicklungsverantwortung entsprechend Vereinbarung | O109: D | P109: D | Q109: V | R109: V
A111: 6 | B111: Nachweis der Einhaltung gesetzlicher Forderungen (z.B. Umwelt, Sicherheit, Recycling, länderspezifische Zertifikate | O111: na | P111: V | Q111: V | R111: V | S111: ü | V111: ü | W111: ü | X111: ü | Y111: ü | Z111: ü
A112: 7 | B112: Materialdatenblatt per IMDS | O112: V | P112: V | Q112: V | R112: V | S112: ü | V112: ü | W112: ü | X112: ü | Y112: ü | Z112: ü
A113: 8 | B113: Softwareprüfbericht | O113: D | P113: V | Q113: V | R113: V
A114: 9 | B114: Prozess-FMEA | O114: D | P114: D | Q114: D | R114: D
A115: 10 | B115: Prozessablaufdiagramm (Fertigungs- und Prüfschritte) | O115: D | P115: D | Q115: D | R115: V
A116: 11 | B116: Produktionslenkungsplan ("Control Plan") | O116: D | P116: D | Q116: D | R116: D
A117: 12 | B117: Prozessfähigkeitsnachweise | O117: D | P117: D | Q117: V | R117: V
A118: 13 | B118: Nachweis zur Absicherung besonderer Merkmale | O118: na | P118: na | Q118: V | R118: V
A119: 14 | B119: Prüfmittelliste (produktspezifisch) | O119: D | P119: D | Q119: D | R119: V
B120: Prüf-/Messprotokolle bzw. Abnahmeprotokolle für Lehren
A121: 15 | B121: Prüfmittelfähigkeitsuntersuchung, wo angemssen (Ergebnis) | O121: D | P121: D | Q121: D | R121: D
A122: 16 | B122: Werkzeugübersicht (mit Stückzahl/Anzahl Nesterund Informationen zum Werkzeugkonzept) | O122: D | P122: D | Q122: V | R122: V
A123: 17 | B123: Nachweis für Erreichung der vereinbarten Kapazität (Prozessvalidierung) | O123: D | P123: D | Q123: V | R123: V
A124: 18 | B124: Schriftliche Selbstbewertung der Kriterien gemäß Matrix Beurteilung Serienreife Produkt und Prozess (Anlage 4) | O124: D | P124: D | Q124: V | R124: V
A125: 19 | B125: Teilelebenslauf | O125: D | P125: V | Q125: V | R125: V | S125: ü | V125: ü | W125: ü | X125: ü | Y125: ü | Z125: ü
A126: 20 | B126: Eignungsnachweis der eingesetzten Ladungsträger inkl. Lagerung | O126: D | P126: D | Q126: V | R126: V
A127: Pkt.No. | B127: Forderungen (Merkmale gemäß Spezifikation) | O127: Vorlagestufe | S127: technische Muster/ Bericht | V127: Schritte der gestuften Bemusterung | Z127: Varianten-bemusterung | AC127: Notiz
O129: 0 | P129: 1 | Q129: 2 | R129: 3 | V129: 1 | W129: 2 | X129: 3 | Y129: 4
O130: V | P130: V | Q130: V | R130: V | S130: ü | V130: ü | W130: ü | X130: ü | Y130: ü | Z130: ü
A131: 21 | B131: PPF-Status-Lieferkette (Zulieferteile, Setzteile und Hausteile) | O131: D | P131: D | Q131: V | R131: V
A132: 22 | B132: Feigabe von Beschichtungssystemen gemäß Kundenforderungen | O132: D | P132: D | Q132: V | R132: V
B134: D= Durchführung, Dokumentation und Archivierung beim Lieferant (ggfs. Zur Einsicht durch den Kunden); V= Vorlage beim Kunden
A135: Mitgeltende Unterlagen/ Appendant Documents:
C136: Technische Kundenunterlagen
C137: Zonenfestlegung für optische Beurteilung
C138: Festlegung Grenzmuster
...

Sheet Deckblatt
B1: Deckblatt
B3: Absender | I3: Empfänger | O3: Bericht Produktionsprozess- und Produktfreigabe | AD3: Vorlagestufe: | AH3: ___
O5: Bericht sonstige Muster | AE5: Nachbemusterung
P7: (Neu-)Bemusterung | AE7: Aussetzen der Fertigung länger als 12 Monate
Q9: Neuteil | AE9: Änderung in der Lieferkette
Q11: Änderung am Produkt:
Q13: Änderung am Produktionsprozess:
A15: Anlagen/Einsichtnahme
A16: Produkt/Prozess
D17: 1.1 Geometrie, Maßprüfung | I17: 1.9 EMV-Prüfung | Q17: 8 Softwareprüfbericht | AG17: 16 Werkzeugübersicht
D19: 1.2 Funktionsprüfung | I19: 1.10 Zuverlässigkeitsprüfung | Q19: 9 FMEA Prozess | AG19: 17 Nachweis vereinbarter Kapazität
D21: 1.3 Werkstoffprüfung | I21: 2 Muster | Q21: 10 Prozessablaufdiagramm | AG21: 18 Schriftliche Selbstbewertung
D23: 1.4 Haptikprüfung | I23: 3 Technische Spezifikationen | Q23: 11 Produktionslenkungsplan | AG23: 19 Teilelebenslauf
D25: 1.5 Akustikprüfung | I25: 4 FMEA Produkt | Q25: 12 Prozessfähigkeitsnachweis | AG25: 20 Transportmittel inkl. Lagerung
D27: 1.6 Geruchsprüfung | I27: 5 Konstruktionsfreigabe | Q27: 13 Absicherung besonderer Merkmale | AG27: 21 Übersicht Einzelteile der Lieferkette
D29: 1.7 Aussehensprüfung | I29: 6 Einhaltung gesetzlicher Forderungen | Q29: 14 Prüfmittelliste | AG29: 22 Freigabe von Beschichtungssystemen
D31: 1.8 Oberflächenprüfung | I31: 7 Materialdatenblatt/IMDS | Q31: 15 Prüfmittelfähigkeitsnachweis | AG31: 23 Sonstiges
A33: Lieferantenangaben
A34: Lieferant/Produktionsstandort: | G34: =B5 | K34: Kennummer/DUNS: | Z34: Kunde:
A35: Benennung: | K35: Lieferscheinnummer: | Z35: Berichts-Nr.:
A36: Sachnummer: | K36: Liefermenge: | Z36: Wareneingangs-Nr./-datum:
A37: Zeichnungsnummer: | K37: Chargennummer: | Z37: Bestellabruf-Nr./-datum:
A38: Stand/Datum: | K38: Mustergewicht: | Z38: Abladestelle:
A39: Bestätigung Lieferant - Hiermit wird bestätigt, dass die Bemusterung entsprechend den vereinbarten Vorlagestufen, gemäß VDA Band 2, durchgeführt worden sind.
A40: Name: | I40: Telefon: | O40: Der IMDS-Datensatz wurde erstellt unter der IMDS-ID-Nr.:
A41: Abteilung: | I41: Email:
A43: Bemerkung: | M43: Datum: | AA43: Unterschrift:
A44: Entscheidung Kunde | I44: Freigaben
J45: Produkt/Prozess
I46: Gesamt | J46: Gesamt | K46: Gesamt | L46: 1.1 | M46: 1.2 | N46: 1.3 | O46: 1.4 | P46: 1.5 | Q46: 1.6 | R46: 1.7 | S46: 1.8 | T46: 1.9 | U46: 1.10 | V46: 2 | W46: 3 | X46: 4 | Y46: 5 | Z46: 6 | AA46: 7 | AB46: 8 | AC46: 9 | AD46: 10 | AE46: 11 | AF46: 12 | AG46: 13 | AH46: 14 | AI46: 15 | AJ46: 16 | AK46: 17 | AL46: 18 | AM46: 19 | AN46: 20 | AO46: 21 | AP46: 22 | AQ46: 23
J47: Prozess | K47: Produkt
A48: i.O.
A49: bedingt i.O. - Nachbemusterung erforderlich
A50: n.i.O. - Nachbemusterung erforderlich
A51: Nr. Abweichgenehmigung | J51: Gültig bis: | N51: Stückzahl: | U51: Termin Nachbemusterung: | AE51: bei Rücksendung Lieferschein Nr./-datum:
A52: Name: | J52: Telefon:
A53: Abteilung: | J53: Fax / Email:
A54: Bemerkung: | X54: Datum | AH54: Unterschrift
A55: Verteiler: | I55: 1 | J55: 2 | K55: 3 | L55: 4 | N55: 5 | Q55: 6 | T55: 7 | W55: 8 | Z55: 9 | AC55: 10 | AF55: 11 | AI55: 12 | AL55: 13 | AO55: 14

Sheet Cover Page
B1: Cover Page
B3: Sender | I3: Receipient | O3: Production process and product approval report | AD3: Submission level | AH3: ___
O5: Report covering other samples | AE5: Reapproval of PPA Process
P7: Sample submission | AE7: Long-term production stop; more than 12 months
Q9: New parts | AE9: Modification in the supply chain
Q11: Product modification:
Q13: Process Modification:
A15: Attachments / Items for inspection
A16: Product / Process
D17: 1.1 Geometry / Dimension Check | I17: 1.9 EMV Test | Q17: 8 Software Test Report | AG17: 16 Tooling List
D19: 1.2 Function Check | I19: 1.10 Reliability Test | Q19: 9 Process FMEA | AG19: 17 Confirmation of Agreed Capacity
D21: 1.3 Material Check | I21: 2 Samples | Q21: 10 Process Flow Chart | AG21: 18 Written Self Assessment
D23: 1.4 Haptics Check | I23: 3 Technical Specifications | Q23: 11 Control Plan | AG23: 19 Part History
D25: 1.5 Acoustics Check | I25: 4 Product FMEA | Q25: 12 Confirmation of Process Capability | AG25: 20 Confirmation of transport equipment
D27: 1.6 Odour Check | I27: 5 Design Release | Q27: 13 Achievement of Special Characteristics | AG27: 21 PPA Status of Supply chain
D29: 1.7 Appearance | I29: 6 Compliance with Legal Requirements | Q29: 14 Test and Inspection Equipment List | AG29: 22 Approval of Coating Systems
D31: 1.8 Surface Check | I31: 7 Material Data Sheet / IMDS | Q31: 15 Capability Study of Testing Equipment | AG31: 23 Others
A33: Supplier details
A34: Supplier / Production location | K34: Ident. No / DUNS: | Z34: Customer:
A35: Part description | K35: Delivery note no: | R35: - | Z35: Report No.:
A36: Part No. | K36: Quantity supplied | R36: - | Z36: Goods inwards No. / Date
A37: Drawing No. | K37: Batch No.: | R37: - | Z37: Order schedule No. / Date
A38: Issue / Date: | K38: Weight of sample: | Z38: Unloading point
A39: Supplier Confirmation - It is hereby confirmed, that the sampling has been carried out according to VDA Volume 2 Chapter 4
A40: Name: | I40: Phone: | M40: The IMDS data-set has been drawn up under IMDS ID-No | O40: Der IMDS-Datensatz wurde erstellt unter der IMDS-ID-Nr.:
A41: Department: | E41: Project | I41: Email:
A43: Comment: | M43: Date: | AA43: Signature:
A44: Decision Customer | I44: Releases
J45: Product / Process
I46: Overall | J46: Overall | K46: Overall | L46: 1.1 | M46: 1.2 | N46: 1.3 | O46: 1.4 | P46: 1.5 | Q46: 1.6 | R46: 1.7 | S46: 1.8 | T46: 1.9 | U46: 1.10 | V46: 2 | W46: 3 | X46: 4 | Y46: 5 | Z46: 6 | AA46: 7 | AB46: 8 | AC46: 9 | AD46: 10 | AE46: 11 | AF46: 12 | AG46: 13 | AH46: 14 | AI46: 15 | AJ46: 16 | AK46: 17 | AL46: 18 | AM46: 19 | AN46: 20 | AO46: 21 | AP46: 22 | AQ46: 23
J47: Process | K47: Product
A48: Approved
A49: Conditionally approved
A50: Rejected, re-sampling necessary
A51: Deviation approval no: | J51: Valid until: | N51: Quantity: | U51: Follow-up submission: | AE51: iIf returned: Delivery note no. and date
A52: Name: | J52: Phone:
A53: Department: | J53: Email:
A54: Comment | X54: Date: | AH54: Signature
A55: Distribution | I55: 1 | J55: 2 | K55: 3 | L55: 4 | N55: 5 | Q55: 6 | T55: 7 | W55: 8 | Z55: 9 | AC55: 10 | AF55: 11 | AI55: 12 | AL55: 13 | AO55: 14

Sheet Doku-Stand
A1: Lieferant / Produktionsstandort: | G1: =Deckblatt!B5 | I1: Kunde:
A2: Kennnummer/DUNS-Code: | I2: Kennnummer:
A3: Berichts-Nr.: | F3: Index: | I3: Berichts-Nr.: | K3: Index:
A4: Benennung: | I4: Zeichnungsnummer:
A5: Sachnummer: | I5: Stand/Datum:
A7: Anlage: | I7: Stand / | J7: Art, Umfang und
I8: Datum | J8: Kennzeichnung der Anlage
D10: 1.1 Geometrie, Maßprüfung
D13: 1.2 Funktionsprüfung
D16: 1.3 Werkstoffprüfung
D19: 1.4 Haptikprüfung
D22: 1.5 Akustikprüfung
D25: 1.6 Geruchsprüfung
D28: 1.7 Aussehensprüfung
D31: 1.8 Oberflächenprüfung
D34: 1.9 EMV - Prüfung
D37: 1.10 Zuverlässigkeitsprüfungen
D40: 2 Muster
D43: 3 Technische Spezifikationen
... D103: 23 Sonstiges
A105: Bemerkung Lieferant:
A106: Name:
A107: Abteilung:
A108: Telefon:
A109: E-Mail:
A110: Datum: | I110: Unterschrift:

Sheet Test Results No. 2 - Prüferg. 2
A2: Ref. | C2: Requirements | T2: measured value - supplier | AI2: evaluation
A4: Nr. | T4: value 1 | W4: value 2 | Z4: value 3 | AC4: value 4 | AF4: value 5 | AI4: ok | AK4: not ok
B38: Confirmation Supplier | U38: Desicion Customer
B39: Comments: | U39: released
U40: Special release
U41: reject, re-sampling required
B42: Name: | U42: Name:
B43: Department: | U43: Department:
B44: Teleph./Fax/e-mail: | U44: Teleph./Fax/e-mail:
D47: Date | L47: Signature: | W47: Date | AE47: Signature:

Sheet Sheet1
A1: 1.1 Geometrie, Maßprüfung | B1: 1.1 Geometry / Dimension Check
A3: 1.2 Funktionsprüfung | B3: 1.2 Function Check
A5: 1.3 Werkstoffprüfung | B5: 1.3 Material Check
A7: 1.4 Haptikprüfung | B7: 1.4 Haptics Check
A9: 1.5 Akustikprüfung | B9: 1.5 Acoustics Check
A11: 1.6 Geruchsprüfung | B11: 1.6 Odour Check
A13: 1.7 Aussehensprüfung | B13: 1.7 Appearance
A15: 1.8 Oberflächenprüfung | B15: 1.8 Surface Check
A17: 1.9 EMV-Prüfung | B17: 1.9 EMV Test
A19: 1.10 Zuverlässigkeitsprüfung | B19: 1.10 Reliability Test
A21: 2 Muster | B21: 2 Samples
A23: 3 Technische Spezifikationen | B23: 3 Technical Specifications
... A63: 23 Sonstiges | B63: 23 Others

Sheet Maßprüfung 
A1: Produktbezogene Prüfergebnisse | P1: Stand: ______ / Datum: ________
D3: Blatt ______ | E3: von ______
D6: 1.1 Geometrie, Maßprüfung | K6: 1.9 EMV-Prüfung
D9: 1.2 Funktionsprüfung | K9: 1.10 Zuverlässigkeitsprüfung
D11: 1.3 Werkstoffprüfung | K11: 2 Muster
D13: 1.4 Haptikprüfung | K13: 3 Technische Spezifikationen
D15: 1.5 Akustikprüfung | K15: 4 FMEA Produkt
D17: 1.6 Geruchsprüfung | K17: 5 Konstruktionsfreigabe
D19: 1.7 Aussehensprüfung | K19: 6 Einhaltung gesetzlicher Forderungen
D21: 1.8 Oberflächenprüfung | K21: 7 Materialdatenblatt/IMDS
A24: Lieferant / Produktionsstandort: | F24: =Deckblatt!B5 | H24: Kunde: | M24: =Deckblatt!I5 -> 0
A25: Kennnummer/DUNS-Code: | F25: =Deckblatt!R33 -> 0 | H25: Kennnummer:
A26: Berichts-Nr.: | E26: =Deckblatt!AI34 -> 0 | F26: Index: | G26: =Deckblatt!F37 -> 0 | H26: Berichts-Nr.: | N26: =Deckblatt!AI34 -> 0 | U26: Index:
A27: Benennung: | E27: =Deckblatt!E34 -> 0 | H27: Benennung: | N27: =E27 -> 0
A28: Sachnummer: | E28: =Deckblatt!E35 -> 0 | H28: Sachnummer: | N28: =E28 -> 0
A29: Zeichnungsnummer: | F29: =Deckblatt!G36 -> 0 | H29: Zeichnungsnummer: | N29: =F29 -> 0
A30: Stand / Datum: | E30: =Deckblatt!F37 -> 0 | H30: Stand/Datum: | N30: =E30 -> 0
A32: Ref. | D32: Forderung | G32: Ist-Werte | L32: Spezifikation erfüllt | V32: Bemerkung
A33: Nr.: | D33: Spezifikation | G33: Lieferant | L33: Ja | Q33: Nein
A34: 1
A37: 2
A40: 3
A43: 4
A46: 5
A49: 6
A52: 7
A55: 8
A58: 9
A61: 10
A65: Bestätigung Lieferant: | K65: Entscheidung Kunde:
A66: Bemerkungen: | K66: frei
K67: abgelehnt, Nachbemusterung
K68: erfoderlich
K69: Bemerkungen:
A74: Name: | E74: =Deckblatt!E39 -> 0 | K74: Name:
A75: Abteilung: | E75: =Deckblatt!E40 -> 0 | K75: Abteilung:
A76: Telefon: | E76: =Deckblatt!J39 -> 0 | K76: Telefon:
A77: Fax: | K77: Fax:
A78: E-Mail: | E78: =Deckblatt!I41 -> Email: | K78: E-Mail:
A80: Datum: | E80: =Deckblatt!P42 -> 0 | F80: Unterschrift: | K80: Datum: | U80: Unterschrift:

Sheet Dokumente 
A1: Prozessbezogene und sonstige Dokumente | M1: Stand: ______ / Datum: ________
D3: Blatt ______ | E3: von ______
D6: 8 Softwarebericht | K6: 16 Werkzeugübersicht
D9: 9 FMEA Prozess | K9: 17 Nachweis vereinbarter Kapazität
D11: 10 Prozessablaufdiagramm | K11: 18 Schriftliche Selbstbewertung
D13: 11 Produktionslenkungsplan | K13: 19 Teilelebenslauf
D15: 12 Prozessfähigkeitsnachweis | K15: 20 Transportmittel inkl. Lagerung
D17: 13 Absicherung besonderer Merkmale | K17: 21 Übersicht der Einzelteile der Lieferkette
D19: 14 Prüfmittelliste | K19: 22 Freigabe von Beschichtungssystemen
D21: 15 Prüfmittelfähigkeitsnachweis | K21: 23 Sonstiges
A24: Lieferant / Produktionsstandort: | F24: =Deckblatt!B5 | H24: Kunde: | L24: =Deckblatt!I5 -> 0
A25: Kennnummer/DUNS-Code: | F25: =Deckblatt!R33 -> 0 | H25: Kennnummer: | L25: ='Doku-Stand'!K2:L2 -> 0
A26: Berichts-Nr.: | E26: =Deckblatt!AI34 -> 0 | F26: Index: | G26: =Deckblatt!F37 -> 0 | H26: Berichts-Nr.: | L26: =Deckblatt!AI34 -> 0 | M26: Index: | N26: =Deckblatt!F37 -> 0
A27: Benennung: | E27: =Deckblatt!E34 -> 0 | H27: Benennung: | L27: =Deckblatt!E34 -> 0
A28: Sachnummer: | E28: =Deckblatt!E35 -> 0 | H28: Sachnummer: | L28: =Deckblatt!E35 -> 0
A29: Zeichnungsnummer: | F29: =Deckblatt!G36 -> 0 | H29: Zeichnungsnummer: | M29: =Deckblatt!G36 -> 0
A30: Stand/Datum: | E30: =Deckblatt!F37 -> 0 | H30: Stand/Datum: | L30: =Deckblatt!F37 -> 0
A32: Bestätigung Lieferant: | I32: Entscheidung Kunde:
A33: Bemerkungen: | I33: frei
I34: abgelehnt, Nachbemusterung
I35: erfoderlich
I36: Bemerkungen:
A41: Name: | E41: =Deckblatt!E39 -> 0 | I41: Name:
A42: Abteilung: | E42: =Deckblatt!E40 -> 0 | I42: Abteilung:
A43: Telefon: | E43: =Deckblatt!J39 -> 0 | I43: Telefon:
A44: Fax: | I44: Fax:
A45: E-Mail: | E45: =Deckblatt!I41 -> Email: | I45: E-Mail:
A47: Datum: | E47: =Deckblatt!P42 -> 0 | F47: Unterschrift: | I47: Datum: | M47: Unterschrift:
