Workbook
Name Opportunities: OFFSET(FIRSATLAR!$I$6,0,0,FIRSATLAR!$I$5,1)
Name Opportunities2: OFFSET(FIRSATLAR!$J$6,0,0,FIRSATLAR!$J$5,1)
Name Opportunities3: OFFSET(FIRSATLAR!$K$6,0,0,FIRSATLAR!$K$5,1)
Name Rakipler: Demografik_Bilgiler[RAKİP ADI]
Name Strengths: OFFSET('GÜÇLÜ YANLAR'!$I$6,0,0,'GÜÇLÜ YANLAR'!$I$5,1)
Name Strengths2: OFFSET('GÜÇLÜ YANLAR'!$J$6,0,0,'GÜÇLÜ YANLAR'!$J$5,1)
Name Strengths3: OFFSET('GÜÇLÜ YANLAR'!$K$6,0,0,'GÜÇLÜ YANLAR'!$K$5,1)
Name Threats: OFFSET(TEHTİT!$I$6,0,0,TEHTİT!$I$5,1)
Name Threats2: OFFSET(TEHTİT!$J$6,0,0,TEHTİT!$J$5,1)
Name Threats3: OFFSET(TEHTİT!$K$6,0,0,TEHTİT!$K$5,1)
Name Weaknesses: OFFSET('ZAYIF YÖNLER'!$I$6,0,0,'ZAYIF YÖNLER'!$I$5,1)
Name Weaknesses2: OFFSET('ZAYIF YÖNLER'!$J$6,0,0,'ZAYIF YÖNLER'!$J$5,1)
Name Weaknesses3: OFFSET('ZAYIF YÖNLER'!$K$6,0,0,'ZAYIF YÖNLER'!$K$5,1)

Sheet ANALİZ
B2: SWOT ANALYSIS

Sheet GÜÇLÜ YANLAR
B2: GÜÇLÜ YÖNLER ANALİZİ
D3: TRUE | E3: TRUE | F3: TRUE
B4: No | C4: GÜÇLÜ YANLAR | P4: NOT:
D5: MT | E5: OK | F5: CE | H5: Strengths | I5: =IF(COUNT(I6:I20)=0,1,COUNT(I6:I20)) -> 15 | J5: =IF(COUNT(J6:J20)=0,1,COUNT(J6:J20)) -> 15 | K5: =IF(COUNT(K6:K20)=0,1,COUNT(K6:K20)) -> 15 | P5: MT | Q5: a
B6: 1 | C6: MARKA DEĞERİ | D6: 3 | E6: 2 | F6: 2 | H6: =IF(C6<>"",C6,"") -> MARKA DEĞERİ | I6: =IF(D$3=TRUE,IF($C6<>"",D6,""),NA()) -> 3 | J6: =IF(E$3=TRUE,IF($C6<>"",E6,""),NA()) -> 2 | K6: =IF(F$3=TRUE,IF($C6<>"",F6,""),NA()) -> 2 | P6: OK | Q6: b
B7: 2 | C7: MÜŞTERİ PORTFÖYÜ | D7: 2 | E7: 1 | F7: 1 | H7: =IF(C7<>"",C7,"") -> MÜŞTERİ PORTFÖYÜ | I7: =IF(D$3=TRUE,IF($C7<>"",D7,""),"") -> 2 | J7: =IF(E$3=TRUE,IF($C7<>"",E7,""),"") -> 1 | K7: =IF(F$3=TRUE,IF($C7<>"",F7,""),"") -> 1 | P7: CE | Q7: c
B8: 3 | C8: DENEYİM | D8: 3 | E8: 2 | F8: 2 | H8: =IF(C8<>"",C8,"") -> DENEYİM | I8: =IF(D$3=TRUE,IF($C8<>"",D8,""),"") -> 3 | J8: =IF(E$3=TRUE,IF($C8<>"",E8,""),"") -> 2 | K8: =IF(F$3=TRUE,IF($C8<>"",F8,""),"") -> 2
B9: 4 | C9: İYİ FİYAT | D9: 2 | E9: 2 | F9: 2 | H9: =IF(C9<>"",C9,"") -> İYİ FİYAT | I9: =IF(D$3=TRUE,IF($C9<>"",D9,""),"") -> 2 | J9: =IF(E$3=TRUE,IF($C9<>"",E9,""),"") -> 2 | K9: =IF(F$3=TRUE,IF($C9<>"",F9,""),"") -> 2 | P9: NOKTA
B10: 5 | C10: İYİ HİZMET | D10: 2 | E10: 1 | F10: 1 | H10: =IF(C10<>"",C10,"") -> İYİ HİZMET | I10: =IF(D$3=TRUE,IF($C10<>"",D10,""),"") -> 2 | J10: =IF(E$3=TRUE,IF($C10<>"",E10,""),"") -> 1 | K10: =IF(F$3=TRUE,IF($C10<>"",F10,""),"") -> 1 | P10: 1 | Q10: KÖTÜ
B11: 6 | C11: UZMANLIK | D11: 3 | E11: 1 | F11: 2 | H11: =IF(C11<>"",C11,"") -> UZMANLIK | I11: =IF(D$3=TRUE,IF($C11<>"",D11,""),"") -> 3 | J11: =IF(E$3=TRUE,IF($C11<>"",E11,""),"") -> 1 | K11: =IF(F$3=TRUE,IF($C11<>"",F11,""),"") -> 2 | P11: 2 | Q11: NORMAL
B12: 7 | C12: FİNANSAL DURUM | D12: 3 | E12: 3 | F12: 2 | H12: =IF(C12<>"",C12,"") -> FİNANSAL DURUM | I12: =IF(D$3=TRUE,IF($C12<>"",D12,""),"") -> 3 | J12: =IF(E$3=TRUE,IF($C12<>"",E12,""),"") -> 3 | K12: =IF(F$3=TRUE,IF($C12<>"",F12,""),"") -> 2 | P12: 3 | Q12: İYİ
B13: 8 | C13: KALİTE BELGESİ DURUMU | D13: 1 | E13: 3 | F13: 3 | H13: =IF(C13<>"",C13,"") -> KALİTE BELGESİ DURUMU | I13: =IF(D$3=TRUE,IF($C13<>"",D13,""),"") -> 1 | J13: =IF(E$3=TRUE,IF($C13<>"",E13,""),"") -> 3 | K13: =IF(F$3=TRUE,IF($C13<>"",F13,""),"") -> 3
B14: 9 | C14: İMALAT YETENEĞİ | D14: 1 | E14: 3 | F14: 3 | H14: =IF(C14<>"",C14,"") -> İMALAT YETENEĞİ | I14: =IF(D$3=TRUE,IF($C14<>"",D14,""),"") -> 1 | J14: =IF(E$3=TRUE,IF($C14<>"",E14,""),"") -> 3 | K14: =IF(F$3=TRUE,IF($C14<>"",F14,""),"") -> 3
B15: 10 | C15: CİRO | D15: 2 | E15: 2 | F15: 2 | H15: =IF(C15<>"",C15,"") -> CİRO | I15: =IF(D$3=TRUE,IF($C15<>"",D15,""),"") -> 2 | J15: =IF(E$3=TRUE,IF($C15<>"",E15,""),"") -> 2 | K15: =IF(F$3=TRUE,IF($C15<>"",F15,""),"") -> 2
B16: 11 | C16: TEST CİHAZLARI | D16: 1 | E16: 3 | F16: 3 | H16: =IF(C16<>"",C16,"") -> TEST CİHAZLARI | I16: =IF(D$3=TRUE,IF($C16<>"",D16,""),"") -> 1 | J16: =IF(E$3=TRUE,IF($C16<>"",E16,""),"") -> 3 | K16: =IF(F$3=TRUE,IF($C16<>"",F16,""),"") -> 3
B17: 12 | C17: MÜŞTERİ MEMNUNİYETİ | D17: 2 | E17: 1 | F17: 1 | H17: =IF(C17<>"",C17,"") -> MÜŞTERİ MEMNUNİYETİ | I17: =IF(D$3=TRUE,IF($C17<>"",D17,""),"") -> 2 | J17: =IF(E$3=TRUE,IF($C17<>"",E17,""),"") -> 1 | K17: =IF(F$3=TRUE,IF($C17<>"",F17,""),"") -> 1
B18: 13 | C18: İMAJ | D18: 2 | E18: 2 | F18: 2 | H18: =IF(C18<>"",C18,"") -> İMAJ | I18: =IF(D$3=TRUE,IF($C18<>"",D18,""),"") -> 2 | J18: =IF(E$3=TRUE,IF($C18<>"",E18,""),"") -> 2 | K18: =IF(F$3=TRUE,IF($C18<>"",F18,""),"") -> 2
B19: 14 | C19: COĞRAFİ KONUM | D19: 3 | E19: 3 | F19: 3 | H19: =IF(C19<>"",C19,"") -> COĞRAFİ KONUM | I19: =IF(D$3=TRUE,IF($C19<>"",D19,""),"") -> 3 | J19: =IF(E$3=TRUE,IF($C19<>"",E19,""),"") -> 3 | K19: =IF(F$3=TRUE,IF($C19<>"",F19,""),"") -> 3
B20: 15 | C20: İNSAN KAYNAKLARI | D20: 1 | E20: 2 | F20: 2 | H20: =IF(C20<>"",C20,"") -> İNSAN KAYNAKLARI | I20: =IF(D$3=TRUE,IF($C20<>"",D20,""),"") -> 1 | J20: =IF(E$3=TRUE,IF($C20<>"",E20,""),"") -> 2 | K20: =IF(F$3=TRUE,IF($C20<>"",F20,""),"") -> 2

Sheet ZAYIF YÖNLER
B2: ZAYIFLIK YÖNLER ANALİZİ
D3: TRUE | E3: TRUE | F3: TRUE
B4: No | C4: ZAYIF YÖNLER | P4: Notes :
D5: MT | E5: OK | F5: CE | H5: Weaknesses | I5: =IF(COUNT(I6:I20)=0,1,COUNT(I6:I20)) -> 5 | J5: =IF(COUNT(J6:J20)=0,1,COUNT(J6:J20)) -> 5 | K5: =IF(COUNT(K6:K20)=0,1,COUNT(K6:K20)) -> 5 | P5: MT | Q5: a
B6: 1 | C6: SEKTÖRDE TANINMA | D6: 3 | E6: 3 | F6: 3 | H6: =IF(C6<>"",C6,"") -> SEKTÖRDE TANINMA | I6: =IF(D$3=TRUE,IF($C6<>"",D6,""),NA()) -> 3 | J6: =IF(E$3=TRUE,IF($C6<>"",E6,""),NA()) -> 3 | K6: =IF(F$3=TRUE,IF($C6<>"",F6,""),NA()) -> 3 | P6: OK | Q6: b
B7: 2 | C7: ORGANİZASYON | D7: 1 | E7: 1 | F7: 2 | H7: =IF(C7<>"",C7,"") -> ORGANİZASYON | I7: =IF(D$3=TRUE,IF($C7<>"",D7,""),"") -> 1 | J7: =IF(E$3=TRUE,IF($C7<>"",E7,""),"") -> 1 | K7: =IF(F$3=TRUE,IF($C7<>"",F7,""),"") -> 2 | P7: CE | Q7: c
B8: 3 | C8: BİLGİ DURUMU | D8: 3 | E8: 1 | F8: 2 | H8: =IF(C8<>"",C8,"") -> BİLGİ DURUMU | I8: =IF(D$3=TRUE,IF($C8<>"",D8,""),"") -> 3 | J8: =IF(E$3=TRUE,IF($C8<>"",E8,""),"") -> 1 | K8: =IF(F$3=TRUE,IF($C8<>"",F8,""),"") -> 2
B9: 4 | C9: FİNANSAL DURUM | D9: 2 | E9: 3 | F9: 2 | H9: =IF(C9<>"",C9,"") -> FİNANSAL DURUM | I9: =IF(D$3=TRUE,IF($C9<>"",D9,""),"") -> 2 | J9: =IF(E$3=TRUE,IF($C9<>"",E9,""),"") -> 3 | K9: =IF(F$3=TRUE,IF($C9<>"",F9,""),"") -> 2 | P9: Points
B10: 5 | C10: DENEYİM | D10: 3 | E10: 2 | F10: 2 | H10: =IF(C10<>"",C10,"") -> DENEYİM | I10: =IF(D$3=TRUE,IF($C10<>"",D10,""),"") -> 3 | J10: =IF(E$3=TRUE,IF($C10<>"",E10,""),"") -> 2 | K10: =IF(F$3=TRUE,IF($C10<>"",F10,""),"") -> 2 | P10: 1 | Q10: ='GÜÇLÜ YANLAR'!Q10 -> KÖTÜ
B11: 6 | H11: =IF(C11<>"",C11,"") | I11: =IF(D$3=TRUE,IF($C11<>"",D11,""),"") | J11: =IF(E$3=TRUE,IF($C11<>"",E11,""),"") | K11: =IF(F$3=TRUE,IF($C11<>"",F11,""),"") | P11: 2 | Q11: ='GÜÇLÜ YANLAR'!Q11 -> NORMAL
B12: 7 | H12: =IF(C12<>"",C12,"") | I12: =IF(D$3=TRUE,IF($C12<>"",D12,""),"") | J12: =IF(E$3=TRUE,IF($C12<>"",E12,""),"") | K12: =IF(F$3=TRUE,IF($C12<>"",F12,""),"") | P12: 3 | Q12: ='GÜÇLÜ YANLAR'!Q12 -> İYİ
B13: 8 | H13: =IF(C13<>"",C13,"") | I13: =IF(D$3=TRUE,IF($C13<>"",D13,""),"") | J13: =IF(E$3=TRUE,IF($C13<>"",E13,""),"") | K13: =IF(F$3=TRUE,IF($C13<>"",F13,""),"")
B14: 9 | H14: =IF(C14<>"",C14,"") | I14: =IF(D$3=TRUE,IF($C14<>"",D14,""),"") | J14: =IF(E$3=TRUE,IF($C14<>"",E14,""),"") | K14: =IF(F$3=TRUE,IF($C14<>"",F14,""),"")
B15: 10 | H15: =IF(C15<>"",C15,"") | I15: =IF(D$3=TRUE,IF($C15<>"",D15,""),"") | J15: =IF(E$3=TRUE,IF($C15<>"",E15,""),"") | K15: =IF(F$3=TRUE,IF($C15<>"",F15,""),"")
B16: 11 | H16: =IF(C16<>"",C16,"") | I16: =IF(D$3=TRUE,IF($C16<>"",D16,""),"") | J16: =IF(E$3=TRUE,IF($C16<>"",E16,""),"") | K16: =IF(F$3=TRUE,IF($C16<>"",F16,""),"")
B17: 12 | H17: =IF(C17<>"",C17,"") | I17: =IF(D$3=TRUE,IF($C17<>"",D17,""),"") | J17: =IF(E$3=TRUE,IF($C17<>"",E17,""),"") | K17: =IF(F$3=TRUE,IF($C17<>"",F17,""),"")
B18: 13 | H18: =IF(C18<>"",C18,"") | I18: =IF(D$3=TRUE,IF($C18<>"",D18,""),"") | J18: =IF(E$3=TRUE,IF($C18<>"",E18,""),"") | K18: =IF(F$3=TRUE,IF($C18<>"",F18,""),"")
B19: 14 | H19: =IF(C19<>"",C19,"") | I19: =IF(D$3=TRUE,IF($C19<>"",D19,""),"") | J19: =IF(E$3=TRUE,IF($C19<>"",E19,""),"") | K19: =IF(F$3=TRUE,IF($C19<>"",F19,""),"")
B20: 15 | H20: =IF(C20<>"",C20,"") | I20: =IF(D$3=TRUE,IF($C20<>"",D20,""),"") | J20: =IF(E$3=TRUE,IF($C20<>"",E20,""),"") | K20: =IF(F$3=TRUE,IF($C20<>"",F20,""),"")

Sheet FIRSATLAR
B2: FIRSAT ANALİZİ
D3: TRUE | E3: TRUE | F3: TRUE
B4: No | C4: FIRSATLAR | P4: Notes :
D5: MT | E5: OK | F5: CE | H5: Opportunities | I5: =IF(COUNT(I6:I20)=0,1,COUNT(I6:I20)) -> 7 | J5: =IF(COUNT(J6:J20)=0,1,COUNT(J6:J20)) -> 7 | K5: =IF(COUNT(K6:K20)=0,1,COUNT(K6:K20)) -> 7 | P5: MT | Q5: a
B6: 1 | C6: HEDEFLER,STRATEJİLER | D6: 3 | E6: 2 | F6: 2 | H6: =IF(C6<>"",C6,"") -> HEDEFLER,STRATEJİLER | I6: =IF(D$3=TRUE,IF($C6<>"",D6,""),NA()) -> 3 | J6: =IF(E$3=TRUE,IF($C6<>"",E6,""),NA()) -> 2 | K6: =IF(F$3=TRUE,IF($C6<>"",F6,""),NA()) -> 2 | P6: OK | Q6: b
B7: 2 | C7: PAZAR PAYI | D7: 1 | E7: 3 | F7: 3 | H7: =IF(C7<>"",C7,"") -> PAZAR PAYI | I7: =IF(D$3=TRUE,IF($C7<>"",D7,""),"") -> 1 | J7: =IF(E$3=TRUE,IF($C7<>"",E7,""),"") -> 3 | K7: =IF(F$3=TRUE,IF($C7<>"",F7,""),"") -> 3 | P7: CE | Q7: c
B8: 3 | C8: YENİ TEKNOLOJİ | D8: 2 | E8: 3 | F8: 2 | H8: =IF(C8<>"",C8,"") -> YENİ TEKNOLOJİ | I8: =IF(D$3=TRUE,IF($C8<>"",D8,""),"") -> 2 | J8: =IF(E$3=TRUE,IF($C8<>"",E8,""),"") -> 3 | K8: =IF(F$3=TRUE,IF($C8<>"",F8,""),"") -> 2
B9: 4 | C9: YENİ ÜRETİM ALANLARI | D9: 2 | E9: 3 | F9: 2 | H9: =IF(C9<>"",C9,"") -> YENİ ÜRETİM ALANLARI | I9: =IF(D$3=TRUE,IF($C9<>"",D9,""),"") -> 2 | J9: =IF(E$3=TRUE,IF($C9<>"",E9,""),"") -> 3 | K9: =IF(F$3=TRUE,IF($C9<>"",F9,""),"") -> 2 | P9: Points
B10: 5 | C10: YENİ MÜŞTERİLER | D10: 2 | E10: 3 | F10: 2 | H10: =IF(C10<>"",C10,"") -> YENİ MÜŞTERİLER | I10: =IF(D$3=TRUE,IF($C10<>"",D10,""),"") -> 2 | J10: =IF(E$3=TRUE,IF($C10<>"",E10,""),"") -> 3 | K10: =IF(F$3=TRUE,IF($C10<>"",F10,""),"") -> 2 | P10: 1 | Q10: ='GÜÇLÜ YANLAR'!Q10 -> KÖTÜ
B11: 6 | C11: KARLILIK | D11: 2 | E11: 2 | F11: 2 | H11: =IF(C11<>"",C11,"") -> KARLILIK | I11: =IF(D$3=TRUE,IF($C11<>"",D11,""),"") -> 2 | J11: =IF(E$3=TRUE,IF($C11<>"",E11,""),"") -> 2 | K11: =IF(F$3=TRUE,IF($C11<>"",F11,""),"") -> 2 | P11: 2 | Q11: ='GÜÇLÜ YANLAR'!Q11 -> NORMAL
B12: 7 | C12: YENİ PROJELER | D12: 3 | E12: 1 | F12: 1 | H12: =IF(C12<>"",C12,"") -> YENİ PROJELER | I12: =IF(D$3=TRUE,IF($C12<>"",D12,""),"") -> 3 | J12: =IF(E$3=TRUE,IF($C12<>"",E12,""),"") -> 1 | K12: =IF(F$3=TRUE,IF($C12<>"",F12,""),"") -> 1 | P12: 3 | Q12: ='GÜÇLÜ YANLAR'!Q12 -> İYİ
B13: 8 | H13: =IF(C13<>"",C13,"") | I13: =IF(D$3=TRUE,IF($C13<>"",D13,""),"") | J13: =IF(E$3=TRUE,IF($C13<>"",E13,""),"") | K13: =IF(F$3=TRUE,IF($C13<>"",F13,""),"")
B14: 9 | H14: =IF(C14<>"",C14,"") | I14: =IF(D$3=TRUE,IF($C14<>"",D14,""),"") | J14: =IF(E$3=TRUE,IF($C14<>"",E14,""),"") | K14: =IF(F$3=TRUE,IF($C14<>"",F14,""),"")
B15: 10 | H15: =IF(C15<>"",C15,"") | I15: =IF(D$3=TRUE,IF($C15<>"",D15,""),"") | J15: =IF(E$3=TRUE,IF($C15<>"",E15,""),"") | K15: =IF(F$3=TRUE,IF($C15<>"",F15,""),"")
B16: 11 | H16: =IF(C16<>"",C16,"") | I16: =IF(D$3=TRUE,IF($C16<>"",D16,""),"") | J16: =IF(E$3=TRUE,IF($C16<>"",E16,""),"") | K16: =IF(F$3=TRUE,IF($C16<>"",F16,""),"")
B17: 12 | H17: =IF(C17<>"",C17,"") | I17: =IF(D$3=TRUE,IF($C17<>"",D17,""),"") | J17: =IF(E$3=TRUE,IF($C17<>"",E17,""),"") | K17: =IF(F$3=TRUE,IF($C17<>"",F17,""),"")
B18: 13 | H18: =IF(C18<>"",C18,"") | I18: =IF(D$3=TRUE,IF($C18<>"",D18,""),"") | J18: =IF(E$3=TRUE,IF($C18<>"",E18,""),"") | K18: =IF(F$3=TRUE,IF($C18<>"",F18,""),"")
B19: 14 | H19: =IF(C19<>"",C19,"") | I19: =IF(D$3=TRUE,IF($C19<>"",D19,""),"") | J19: =IF(E$3=TRUE,IF($C19<>"",E19,""),"") | K19: =IF(F$3=TRUE,IF($C19<>"",F19,""),"")
B20: 15 | H20: =IF(C20<>"",C20,"") | I20: =IF(D$3=TRUE,IF($C20<>"",D20,""),"") | J20: =IF(E$3=TRUE,IF($C20<>"",E20,""),"") | K20: =IF(F$3=TRUE,IF($C20<>"",F20,""),"")

Sheet TEHTİT
B2: TEHTİT ANALİZİ
D3: TRUE | E3: TRUE | F3: TRUE
B4: No | C4: TEHTİTLER | P4: Notes :
D5: MT | E5: OK | F5: CE | H5: Threats | I5: =IF(COUNT(I6:I20)=0,1,COUNT(I6:I20)) -> 10 | J5: =IF(COUNT(J6:J20)=0,1,COUNT(J6:J20)) -> 10 | K5: =IF(COUNT(K6:K20)=0,1,COUNT(K6:K20)) -> 10 | P5: MT | Q5: a
B6: 1 | C6: SİYASİ DURUM ETKİLERİ | D6: 2 | E6: 2 | F6: 2 | H6: =IF(C6<>"",C6,"") -> SİYASİ DURUM ETKİLERİ | I6: =IF(D$3=TRUE,IF($C6<>"",D6,""),NA()) -> 2 | J6: =IF(E$3=TRUE,IF($C6<>"",E6,""),NA()) -> 2 | K6: =IF(F$3=TRUE,IF($C6<>"",F6,""),NA()) -> 2 | P6: OK | Q6: b
B7: 2 | C7: RAKİPLER | D7: 2 | E7: 2 | F7: 2 | H7: =IF(C7<>"",C7,"") -> RAKİPLER | I7: =IF(D$3=TRUE,IF($C7<>"",D7,""),"") -> 2 | J7: =IF(E$3=TRUE,IF($C7<>"",E7,""),"") -> 2 | K7: =IF(F$3=TRUE,IF($C7<>"",F7,""),"") -> 2 | P7: CE | Q7: c
B8: 3 | C8: PİYASA TALEPLERİ | D8: 2 | E8: 2 | F8: 2 | H8: =IF(C8<>"",C8,"") -> PİYASA TALEPLERİ | I8: =IF(D$3=TRUE,IF($C8<>"",D8,""),"") -> 2 | J8: =IF(E$3=TRUE,IF($C8<>"",E8,""),"") -> 2 | K8: =IF(F$3=TRUE,IF($C8<>"",F8,""),"") -> 2
B9: 4 | C9: EKONOMİK DURUM | D9: 2 | E9: 2 | F9: 2 | H9: =IF(C9<>"",C9,"") -> EKONOMİK DURUM | I9: =IF(D$3=TRUE,IF($C9<>"",D9,""),"") -> 2 | J9: =IF(E$3=TRUE,IF($C9<>"",E9,""),"") -> 2 | K9: =IF(F$3=TRUE,IF($C9<>"",F9,""),"") -> 2 | P9: Points
B10: 5 | C10: DEVLET/YASALAR | D10: 1 | E10: 1 | F10: 1 | H10: =IF(C10<>"",C10,"") -> DEVLET/YASALAR | I10: =IF(D$3=TRUE,IF($C10<>"",D10,""),"") -> 1 | J10: =IF(E$3=TRUE,IF($C10<>"",E10,""),"") -> 1 | K10: =IF(F$3=TRUE,IF($C10<>"",F10,""),"") -> 1 | P10: 1 | Q10: ='GÜÇLÜ YANLAR'!Q10 -> KÖTÜ
B11: 6 | C11: ÇALIŞANLAR | D11: 2 | E11: 2 | F11: 2 | H11: =IF(C11<>"",C11,"") -> ÇALIŞANLAR | I11: =IF(D$3=TRUE,IF($C11<>"",D11,""),"") -> 2 | J11: =IF(E$3=TRUE,IF($C11<>"",E11,""),"") -> 2 | K11: =IF(F$3=TRUE,IF($C11<>"",F11,""),"") -> 2 | P11: 2 | Q11: ='GÜÇLÜ YANLAR'!Q11 -> NORMAL
B12: 7 | C12: FİNANSAL DURUM | D12: 3 | E12: 3 | F12: 3 | H12: =IF(C12<>"",C12,"") -> FİNANSAL DURUM | I12: =IF(D$3=TRUE,IF($C12<>"",D12,""),"") -> 3 | J12: =IF(E$3=TRUE,IF($C12<>"",E12,""),"") -> 3 | K12: =IF(F$3=TRUE,IF($C12<>"",F12,""),"") -> 3 | P12: 3 | Q12: ='GÜÇLÜ YANLAR'!Q12 -> İYİ
B13: 8 | C13: ORGANİZASYON | D13: 1 | E13: 3 | F13: 3 | H13: =IF(C13<>"",C13,"") -> ORGANİZASYON | I13: =IF(D$3=TRUE,IF($C13<>"",D13,""),"") -> 1 | J13: =IF(E$3=TRUE,IF($C13<>"",E13,""),"") -> 3 | K13: =IF(F$3=TRUE,IF($C13<>"",F13,""),"") -> 3
B14: 9 | C14: ENGELLER | D14: 2 | E14: 2 | F14: 2 | H14: =IF(C14<>"",C14,"") -> ENGELLER | I14: =IF(D$3=TRUE,IF($C14<>"",D14,""),"") -> 2 | J14: =IF(E$3=TRUE,IF($C14<>"",E14,""),"") -> 2 | K14: =IF(F$3=TRUE,IF($C14<>"",F14,""),"") -> 2
B15: 10 | C15: YENİ TEKNOLOJİLER | D15: 3 | E15: 3 | F15: 3 | H15: =IF(C15<>"",C15,"") -> YENİ TEKNOLOJİLER | I15: =IF(D$3=TRUE,IF($C15<>"",D15,""),"") -> 3 | J15: =IF(E$3=TRUE,IF($C15<>"",E15,""),"") -> 3 | K15: =IF(F$3=TRUE,IF($C15<>"",F15,""),"") -> 3
B16: 11 | H16: =IF(C16<>"",C16,"") | I16: =IF(D$3=TRUE,IF($C16<>"",D16,""),"") | J16: =IF(E$3=TRUE,IF($C16<>"",E16,""),"") | K16: =IF(F$3=TRUE,IF($C16<>"",F16,""),"")
B17: 12 | H17: =IF(C17<>"",C17,"") | I17: =IF(D$3=TRUE,IF($C17<>"",D17,""),"") | J17: =IF(E$3=TRUE,IF($C17<>"",E17,""),"") | K17: =IF(F$3=TRUE,IF($C17<>"",F17,""),"")
B18: 13 | H18: =IF(C18<>"",C18,"") | I18: =IF(D$3=TRUE,IF($C18<>"",D18,""),"") | J18: =IF(E$3=TRUE,IF($C18<>"",E18,""),"") | K18: =IF(F$3=TRUE,IF($C18<>"",F18,""),"")
B19: 14 | H19: =IF(C19<>"",C19,"") | I19: =IF(D$3=TRUE,IF($C19<>"",D19,""),"") | J19: =IF(E$3=TRUE,IF($C19<>"",E19,""),"") | K19: =IF(F$3=TRUE,IF($C19<>"",F19,""),"")
B20: 15 | H20: =IF(C20<>"",C20,"") | I20: =IF(D$3=TRUE,IF($C20<>"",D20,""),"") | J20: =IF(E$3=TRUE,IF($C20<>"",E20,""),"") | K20: =IF(F$3=TRUE,IF($C20<>"",F20,""),"")

Sheet Rakip Demografik Bilgileri
B2: alternatif| RAKİP DEMOGRAFİK BİLGİLERİ
B3: Rakip Analizi
B4: RAKİP ADI | C4: ŞİRKET BOYUTU | D4: İŞ YILI | E4: ÇALIŞANLAR | F4: TESİSLER | G4: ŞUBE/BAYİLİK | H4: SAHİPLİK | I4: YAPI | J4: NOTLAR
B5: a | C5: Küçük | D5: 4 | E5: <50 | F5: 2 | G5: x | H5: Özel | I5: Limited Şirket | J5: Kalıp imalatıda var
B6: b | C6: Büyük | D6: 45 | E6: >50 | F6: 2 | G6: x | H6: Özel | I6: Limited Şirket | J6: Kalıp imalatıda var
B7: c | C7: Orta | D7: 13 | E7: <50 | F7: 1 | G7: x | H7: Özel | I7: Limited Şirket | J7: Kalıp imalatıda var

Sheet Rakip Analizi
B2: =LEFT('Rakip Demografik Bilgileri'!B2,FIND("|",'Rakip Demografik Bilgileri'!B2))&" RAKIP ANALIZI" -> alternatif| RAKIP ANALIZI
B3: Rakip Demografik Bilgileri
B4: Her rakibi değerlendirmek için bu ölçeği kullanın: | D4: 0 Geçerli Değil | E4: 1 Minimum Düzeyde Geçerli | F4: 2 Düşük Oranda Geçerli | G4: 3 Orta Derecede Geçerli | H4: 4 Maksimum Düzeyde Geçerli
B5: RAKİP ADI | C5: PERAKENDE SATIŞ KONUMLARI | D5: YILLIK SATIŞ | E5: ÜRÜN KARŞILAŞTIRMASI | F5: ÜRÜN FİYATI | G5: PAZARLAMA | H5: ÜRETİM MALİYETİ | I5: GENİŞLEME HIZI | J5: LİDERLİK | K5: DAĞITIM | L5: SAĞLAYICILAR | M5: RİSK SERMAYESİ | N5: PAZAR GEREKSİNİMLERİ | O5: TOPLAMLAR
B6: a | C6: 1 | D6: 2 | E6: 4 | F6: 4 | G6: 4 | H6: 3 | I6: 1 | J6: 3 | K6: 2 | L6: 2 | M6: 3 | N6: 2 | O6: =SUM(Analiz[[#This Row],[PERAKENDE SATIŞ KONUMLARI]:[PAZAR GEREKSİNİMLERİ]]) -> 31
B7: b | C7: 4 | D7: 3 | E7: 2 | F7: 4 | G7: 1 | H7: 3 | I7: 1 | J7: 1 | K7: 2 | L7: 2 | M7: 2 | N7: 2 | O7: =SUM(Analiz[[#This Row],[PERAKENDE SATIŞ KONUMLARI]:[PAZAR GEREKSİNİMLERİ]]) -> 27
B8: c | C8: 3 | D8: 3 | E8: 4 | F8: 4 | G8: 1 | H8: 3 | I8: 1 | J8: 1 | K8: 2 | L8: 2 | M8: 1 | N8: 4 | O8: =SUM(Analiz[[#This Row],[PERAKENDE SATIŞ KONUMLARI]:[PAZAR GEREKSİNİMLERİ]]) -> 29
B9: ORTALAMALAR | C9: =IFERROR(SUBTOTAL(101,Analiz[PERAKENDE SATIŞ KONUMLARI]),"") -> 2.6666667 | D9: =IFERROR(SUBTOTAL(101,Analiz[YILLIK SATIŞ]),"") -> 2.6666667 | E9: =IFERROR(SUBTOTAL(101,Analiz[ÜRÜN KARŞILAŞTIRMASI]),"") -> 3.3333333 | F9: =IFERROR(SUBTOTAL(101,Analiz[ÜRÜN FİYATI]),"") -> 4 | G9: =IFERROR(SUBTOTAL(101,Analiz[PAZARLAMA]),"") -> 2 | H9: =IFERROR(SUBTOTAL(101,Analiz[ÜRETİM MALİYETİ]),"") -> 3 | I9: =IFERROR(SUBTOTAL(101,Analiz[GENİŞLEME HIZI]),"") -> 1 | J9: =IFERROR(SUBTOTAL(101,Analiz[LİDERLİK]),"") -> 1.6666667 | K9: =IFERROR(SUBTOTAL(101,Analiz[DAĞITIM]),"") -> 2 | L9: =IFERROR(SUBTOTAL(101,Analiz[SAĞLAYICILAR]),"") -> 2 | M9: =IFERROR(SUBTOTAL(101,Analiz[RİSK SERMAYESİ]),"") -> 2 | N9: =IFERROR(SUBTOTAL(101,Analiz[PAZAR GEREKSİNİMLERİ]),"") -> 2.6666667 | O9: =SUBTOTAL(101,Analiz[TOPLAMLAR]) -> 29
