Workbook
Name Bias: OFFSET(ProsesListeleri!$E$2,0,0,COUNTA(ProsesListeleri!$E:$E)-1,1)
Name correction: ProsesListeleri!$L$2:$L$6
Name cost: ProsesListeleri!$N$2:$N$5
Name Likelihood: ProsesListeleri!$H$2:$H$6
Name Occurrences: ProsesListeleri!$I$2:$I$6
Name opprep: ProsesListeleri!$O$2:$O$6
Name Party: OFFSET('[1]İlgili Taraflar'!$B$3,0,0,COUNTA('[1]İlgili Taraflar'!$B:$B)-1,1)
Name Potential: ProsesListeleri!$J$2:$J$6
Name Priority: OFFSET(ProsesListeleri!$C$2,0,0,COUNTA(ProsesListeleri!$C:$C)-1,1)
Name Process: OFFSET(ProsesListeleri!$F$2,0,0,COUNTA(ProsesListeleri!$F:$F)-1,1)
Name riskrep: ProsesListeleri!$M$2:$M$6
Name score: ProsesListeleri!#REF!
Name Success: ProsesListeleri!$Q$8:$Q$12
Name Treatment: OFFSET(ProsesListeleri!$D$2,0,0,COUNTA(ProsesListeleri!$D:$D)-1,1)
Name Type: OFFSET(ProsesListeleri!$B$2,0,0,COUNTA(ProsesListeleri!$B:$B)-1,1)
Name Violation: ProsesListeleri!$K$2:$K$6

Sheet Sayfa1
C1: POLİTİK | F1: EKONOMİK
B2: 1 | C2: VERGİLER | E2: 1 | F2: AŞIRI PİYASA PARAMETRE DALGALANMALARI
B3: 2 | C3: MALİYE POLİTİKALARI | E3: 2 | F3: ENFLASYON BEKLENTİSİ
B4: 3 | C4: TEŞVİKLER | E4: 3 | F4: DÖVİZDEKİ KUR DALGALANMALARI
B5: 4 | C5: KREDİLER | E5: 4 | F5: DÜNYA BORSALARININ TÜRKİYE FAİZ VE KREDİ NOTLARI
B6: 5 | C6: ULUSLARARASI İLİŞKİLER | E6: 5 | F6: VERGİ ORANLARI
B7: 6 | C7: SEÇİM SONUÇLARI | E7: 6 | F7: İŞÇİ MALİYETLERİ
B8: 7 | C8: İTHALAT POLİTİKALARI | E8: 7 | F8: HAMMADDE MALİYETLERİ
B9: 8 | E9: 8 | F9: YÜKSEK KREDİ MALİYETLERİ
B10: 9 | E10: 9 | F10: SERMAYE GÜCÜ
B11: 10 | E11: 10 | F11: YÜKSEK ENERJİ MALİYETLERİ
B12: 11 | E12: 11
B13: 12 | E13: 12
B14: 13 | E14: 13
B15: 14 | E15: 14
B16: 15 | E16: 15
B17: 16 | E17: 16
B18: 17 | E18: 17
B19: 18 | E19: 18
B20: 19 | E20: 19
B21: 20 | E21: 20
C23: SOSYAL | F23: TEKNOLOJİ
B24: 1 | C24: SOSYAL MEDYA VE REKLAM MECRALARININ ARTMASI | E24: 1 | F24: OTOMASYON SEVİYESİNİN ARTMASI
B25: 2 | C25: NÜFUS ARTIŞIYLA İHTİYAÇLARIN ARTMASI | E25: 2 | F25: İLETİŞİMDEKİ YENİLİKLER
B26: 3 | C26: HİJYEN ALGISININ ARTMASI | E26: 3 | F26: SUNUCU VEYA İNTERNET MALİYETLERİ
B27: 4 | C27: GELİR DÜZEYİNİN ARTMASI | E27: 4 | F27: İNOVASTONLAR
B28: 5 | C28: LÜKS TÜKETİM EĞİLİMİNİN ARTMASI | E28: 5 | F28: ÜRETİLEN YENİ TEKNOLOJİLER
B29: 6 | C29: EĞİTİM SEVİYESİ | E29: 6 | F29: MÜŞTERİYE KOLAY ULAŞMA
B30: 7 | C30: YAŞAM BİÇİMİ | E30: 7 | F30: AR-GE FAALİYETLERİ
B31: 8 | E31: 8
B32: 9 | E32: 9
B33: 10 | E33: 10
B34: 11 | E34: 11
B35: 12 | E35: 12
B36: 13 | E36: 13
B37: 14 | E37: 14
B38: 15 | E38: 15
B39: 16 | E39: 16
B40: 17 | E40: 17
B41: 18 | E41: 18
...

Sheet Risk Kütüğü
E1: Süreç Risk Kütüğü
A2: Sıra No | B2: UNSUR | C2: TEHTİT | D2: RİSK | E2: Risk Oluşma Olasılığı | G2: Olasılık Puanı | H2: Risk ile Karşılaşıldığında Sonucu | N2: Şiddet Puanı | O2: Risk Faktorü | P2: Fırsat | Q2: Aksiyon/Önleme planı | R2: AYRILACAK MADDİ KAYNAK | S2: SORUMLU | T2: HEDEF TARİH | U2: GERÇEKLEŞEN TARİH | V2: Önleme planı sonrası risk faktörü
E3: İhtimal | F3: Önceki Olaylar | H3: İş Kaybı olasılığı | I3: Kullanıcıya Zarar Verme | J3: Sözleşme Şartlarını yerine getirememe olasılığı | K3: Yasal şartları yerine getirememe olasılığı | L3: Kuruluşun imaj etkisi | M3: Düzeltmenin maliyeti | V3: olasılık | W3: şiddet | X3: Kontrolden sonra Risk Faktorü
A4: POLİTİK | B4: VERGİLER | C4: YENİ ÇIKACAK VERGİ KANUNU | D4: GELİR VERGİSİ ORANININ ARTMASI | E4: Çok az İhtimal | F4: Şimdiye kadar Olmadı | G4: =IF($E4="","",MAX(VLOOKUP($E4,ProsesListeleri!$H$1:$P$6,9,0),(VLOOKUP($F4,ProsesListeleri!$I$1:$P$6,8,0)))) -> 2 | H4: Yüksek | I4: Yüksek | J4: Yok | K4: Yok/UY | L4: Çok Şiddetli | M4: < 10.000 TL | N4: =IF($H4="","",(MAX(VLOOKUP($H4,ProsesListeleri!$J$1:$P$6,7,0),VLOOKUP($I4,ProsesListeleri!$J$1:$P$6,7,0),VLOOKUP($J4,ProsesListeleri!$J$1:$P$6,7,0),VLOOKUP($K4,ProsesListeleri!$K$1:$P$6,6,0),VLOOKUP($L4,ProsesListeleri!$M$1:$P$6,4,0),VLOOKUP($M4,ProsesListeleri!$L$1:$P$6,5,0)))) -> 5 | O4: =IF($E4="","",$G4*$N4) -> 10
B5: MALİYE POLİTİKALARI | C5: MERKEZ BANKASININ FAİZ UYGULAMASI KARARI | D5: DÖVİZ KURLARINDA ARTIŞ | E5: ihtimal | F5: Son 10 Yılda Olmadı | G5: =IF($E5="","",MAX(VLOOKUP($E5,ProsesListeleri!$H$1:$P$6,9,0),(VLOOKUP($F5,ProsesListeleri!$I$1:$P$6,8,0)))) -> 4 | H5: Yüksek | I5: Küçük | J5: Yüksek | K5: Yok/UY | L5: Şiddetli | M5: > 250,000 TL | N5: =IF($H5="","",(MAX(VLOOKUP($H5,ProsesListeleri!$J$1:$P$6,7,0),VLOOKUP($I5,ProsesListeleri!$J$1:$P$6,7,0),VLOOKUP($J5,ProsesListeleri!$J$1:$P$6,7,0),VLOOKUP($K5,ProsesListeleri!$K$1:$P$6,6,0),VLOOKUP($L5,ProsesListeleri!$M$1:$P$6,4,0),VLOOKUP($M5,ProsesListeleri!$L$1:$P$6,5,0)))) -> 4 | O5: =IF($E5="","",$G5*$N5) -> 16
B6: TEŞVİKLER | E6: Çok az İhtimal | F6: Şimdiye kadar Olmadı | G6: =IF($E6="","",MAX(VLOOKUP($E6,ProsesListeleri!$H$1:$P$6,9,0),(VLOOKUP($F6,ProsesListeleri!$I$1:$P$6,8,0)))) -> 2 | H6: Küçük | I6: Yok | J6: Yok | K6: Yok/UY | L6: Şiddetli | M6: < 10.000 TL | N6: =IF($H6="","",(MAX(VLOOKUP($H6,ProsesListeleri!$J$1:$P$6,7,0),VLOOKUP($I6,ProsesListeleri!$J$1:$P$6,7,0),VLOOKUP($J6,ProsesListeleri!$J$1:$P$6,7,0),VLOOKUP($K6,ProsesListeleri!$K$1:$P$6,6,0),VLOOKUP($L6,ProsesListeleri!$M$1:$P$6,4,0),VLOOKUP($M6,ProsesListeleri!$L$1:$P$6,5,0)))) -> 4 | O6: =IF($E6="","",$G6*$N6) -> 8
B7: KREDİLER | E7: Çok az İhtimal | F7: Şimdiye kadar Olmadı | G7: =IF($E7="","",MAX(VLOOKUP($E7,ProsesListeleri!$H$1:$P$6,9,0),(VLOOKUP($F7,ProsesListeleri!$I$1:$P$6,8,0)))) -> 2 | H7: Küçük | I7: Yok | J7: Yok | K7: Yok/UY | L7: Şiddetli | M7: < 10.000 TL | N7: =IF($H7="","",(MAX(VLOOKUP($H7,ProsesListeleri!$J$1:$P$6,7,0),VLOOKUP($I7,ProsesListeleri!$J$1:$P$6,7,0),VLOOKUP($J7,ProsesListeleri!$J$1:$P$6,7,0),VLOOKUP($K7,ProsesListeleri!$K$1:$P$6,6,0),VLOOKUP($L7,ProsesListeleri!$M$1:$P$6,4,0),VLOOKUP($M7,ProsesListeleri!$L$1:$P$6,5,0)))) -> 4 | O7: =IF($E7="","",$G7*$N7) -> 8
B8: ULUSLARARASI İLİŞKİLER | E8: Çok az İhtimal | F8: Şimdiye kadar Olmadı | G8: =IF($E8="","",MAX(VLOOKUP($E8,ProsesListeleri!$H$1:$P$6,9,0),(VLOOKUP($F8,ProsesListeleri!$I$1:$P$6,8,0)))) -> 2 | H8: Küçük | I8: Yok | J8: Yok | K8: Yok/UY | L8: Şiddetli | M8: < 10.000 TL | N8: =IF($H8="","",(MAX(VLOOKUP($H8,ProsesListeleri!$J$1:$P$6,7,0),VLOOKUP($I8,ProsesListeleri!$J$1:$P$6,7,0),VLOOKUP($J8,ProsesListeleri!$J$1:$P$6,7,0),VLOOKUP($K8,ProsesListeleri!$K$1:$P$6,6,0),VLOOKUP($L8,ProsesListeleri!$M$1:$P$6,4,0),VLOOKUP($M8,ProsesListeleri!$L$1:$P$6,5,0)))) -> 4 | O8: =IF($E8="","",$G8*$N8) -> 8
B9: SEÇİM SONUÇLARI | C9: 2023 TE YAPILACAK SEÇİMLE YENİDEN AYNI YÖNETİMİN İKTİDAR OLMASI | E9: ihtimal | F9: Son 5 yıl içinde Oldu | G9: =IF($E9="","",MAX(VLOOKUP($E9,ProsesListeleri!$H$1:$P$6,9,0),(VLOOKUP($F9,ProsesListeleri!$I$1:$P$6,8,0)))) -> 4 | H9: Yüksek | I9: Yok | J9: Yüksek | K9: Yok/UY | L9: Çok Şiddetli | M9: > 250,000 TL | N9: =IF($H9="","",(MAX(VLOOKUP($H9,ProsesListeleri!$J$1:$P$6,7,0),VLOOKUP($I9,ProsesListeleri!$J$1:$P$6,7,0),VLOOKUP($J9,ProsesListeleri!$J$1:$P$6,7,0),VLOOKUP($K9,ProsesListeleri!$K$1:$P$6,6,0),VLOOKUP($L9,ProsesListeleri!$M$1:$P$6,4,0),VLOOKUP($M9,ProsesListeleri!$L$1:$P$6,5,0)))) -> 5 | O9: =IF($E9="","",$G9*$N9) -> 20
B10: YOLSUZLUKLAR
B11: İTHALAT POLİTİKALARI | E11: Az ihtimal | F11: Şimdiye kadar Olmadı | G11: =IF($E11="","",MAX(VLOOKUP($E11,ProsesListeleri!$H$1:$P$6,9,0),(VLOOKUP($F11,ProsesListeleri!$I$1:$P$6,8,0)))) -> 3 | H11: Yüksek | I11: Yok | J11: Yüksek | K11: Yok/UY | L11: Ortakarar | M11: < 50.000 TL | N11: =IF($H11="","",(MAX(VLOOKUP($H11,ProsesListeleri!$J$1:$P$6,7,0),VLOOKUP($I11,ProsesListeleri!$J$1:$P$6,7,0),VLOOKUP($J11,ProsesListeleri!$J$1:$P$6,7,0),VLOOKUP($K11,ProsesListeleri!$K$1:$P$6,6,0),VLOOKUP($L11,ProsesListeleri!$M$1:$P$6,4,0),VLOOKUP($M11,ProsesListeleri!$L$1:$P$6,5,0)))) -> 4 | O11: =IF($E11="","",$G11*$N11) -> 12
A12: EKONOMİK | B12: AŞIRI PİYASA PARAMETRE DALGALANMALARI | E12: ihtimal | F12: Son 5 yıl içinde Oldu | G12: =IF($E12="","",MAX(VLOOKUP($E12,ProsesListeleri!$H$1:$P$6,9,0),(VLOOKUP($F12,ProsesListeleri!$I$1:$P$6,8,0)))) -> 4 | H12: Yüksek | I12: Yok | J12: Yüksek | K12: Yok/UY | L12: Çok Şiddetli | M12: > 250,000 TL | N12: =IF($H12="","",(MAX(VLOOKUP($H12,ProsesListeleri!$J$1:$P$6,7,0),VLOOKUP($I12,ProsesListeleri!$J$1:$P$6,7,0),VLOOKUP($J12,ProsesListeleri!$J$1:$P$6,7,0),VLOOKUP($K12,ProsesListeleri!$K$1:$P$6,6,0),VLOOKUP($L12,ProsesListeleri!$M$1:$P$6,4,0),VLOOKUP($M12,ProsesListeleri!$L$1:$P$6,5,0)))) -> 5 | O12: =IF($E12="","",$G12*$N12) -> 20
B13: ENFLASYON BEKLENTİSİ | E13: Çok az İhtimal | F13: Şimdiye kadar Olmadı | G13: =IF($E13="","",MAX(VLOOKUP($E13,ProsesListeleri!$H$1:$P$6,9,0),(VLOOKUP($F13,ProsesListeleri!$I$1:$P$6,8,0)))) -> 2 | H13: Küçük | I13: Yok | J13: Yok | K13: Yok/UY | L13: Şiddetli | M13: < 10.000 TL | N13: =IF($H13="","",(MAX(VLOOKUP($H13,ProsesListeleri!$J$1:$P$6,7,0),VLOOKUP($I13,ProsesListeleri!$J$1:$P$6,7,0),VLOOKUP($J13,ProsesListeleri!$J$1:$P$6,7,0),VLOOKUP($K13,ProsesListeleri!$K$1:$P$6,6,0),VLOOKUP($L13,ProsesListeleri!$M$1:$P$6,4,0),VLOOKUP($M13,ProsesListeleri!$L$1:$P$6,5,0)))) -> 4 | O13: =IF($E13="","",$G13*$N13) -> 8
B14: DÖVİZDEKİ KUR DALGALANMALARI | E14: Olamaz | F14: Şimdiye kadar Olmadı | G14: =IF($E14="","",MAX(VLOOKUP($E14,ProsesListeleri!$H$1:$P$6,9,0),(VLOOKUP($F14,ProsesListeleri!$I$1:$P$6,8,0)))) -> 1 | H14: Yok | I14: Yok | J14: Yok | K14: Yasal Risk | L14: Çok Şiddetli | M14: 0 or N/A | N14: =IF($H14="","",(MAX(VLOOKUP($H14,ProsesListeleri!$J$1:$P$6,7,0),VLOOKUP($I14,ProsesListeleri!$J$1:$P$6,7,0),VLOOKUP($J14,ProsesListeleri!$J$1:$P$6,7,0),VLOOKUP($K14,ProsesListeleri!$K$1:$P$6,6,0),VLOOKUP($L14,ProsesListeleri!$M$1:$P$6,4,0),VLOOKUP($M14,ProsesListeleri!$L$1:$P$6,5,0)))) -> 5 | O14: =IF($E14="","",$G14*$N14) -> 5
B15: DÜNYA BORSALARININ TÜRKİYE FAİZ VE KREDİ NOTLARI | E15: Çok az İhtimal | F15: Şimdiye kadar Olmadı | G15: =IF($E15="","",MAX(VLOOKUP($E15,ProsesListeleri!$H$1:$P$6,9,0),(VLOOKUP($F15,ProsesListeleri!$I$1:$P$6,8,0)))) -> 2 | H15: OrtaKarar | I15: Yok | J15: Yok | K15: Yok/UY | L15: Şiddetli | M15: < 10.000 TL | N15: =IF($H15="","",(MAX(VLOOKUP($H15,ProsesListeleri!$J$1:$P$6,7,0),VLOOKUP($I15,ProsesListeleri!$J$1:$P$6,7,0),VLOOKUP($J15,ProsesListeleri!$J$1:$P$6,7,0),VLOOKUP($K15,ProsesListeleri!$K$1:$P$6,6,0),VLOOKUP($L15,ProsesListeleri!$M$1:$P$6,4,0),VLOOKUP($M15,ProsesListeleri!$L$1:$P$6,5,0)))) -> 4 | O15: =IF($E15="","",$G15*$N15) -> 8
B16: VERGİ ORANLARI | E16: Çok az İhtimal | F16: Şimdiye kadar Olmadı | G16: =IF($E16="","",MAX(VLOOKUP($E16,ProsesListeleri!$H$1:$P$6,9,0),(VLOOKUP($F16,ProsesListeleri!$I$1:$P$6,8,0)))) -> 2 | H16: OrtaKarar | I16: Yok | J16: Yok | K16: Yok/UY | L16: Şiddetli | M16: < 10.000 TL | N16: =IF($H16="","",(MAX(VLOOKUP($H16,ProsesListeleri!$J$1:$P$6,7,0),VLOOKUP($I16,ProsesListeleri!$J$1:$P$6,7,0),VLOOKUP($J16,ProsesListeleri!$J$1:$P$6,7,0),VLOOKUP($K16,ProsesListeleri!$K$1:$P$6,6,0),VLOOKUP($L16,ProsesListeleri!$M$1:$P$6,4,0),VLOOKUP($M16,ProsesListeleri!$L$1:$P$6,5,0)))) -> 4 | O16: =IF($E16="","",$G16*$N16) -> 8
B17: İŞÇİ MALİYETLERİ | E17: Çok az İhtimal | F17: Şimdiye kadar Olmadı | G17: =IF($E17="","",MAX(VLOOKUP($E17,ProsesListeleri!$H$1:$P$6,9,0),(VLOOKUP($F17,ProsesListeleri!$I$1:$P$6,8,0)))) -> 2 | H17: Yok | I17: Yok | J17: Yok | K17: Yok/UY | L17: Şiddetli | M17: < 10.000 TL | N17: =IF($H17="","",(MAX(VLOOKUP($H17,ProsesListeleri!$J$1:$P$6,7,0),VLOOKUP($I17,ProsesListeleri!$J$1:$P$6,7,0),VLOOKUP($J17,ProsesListeleri!$J$1:$P$6,7,0),VLOOKUP($K17,ProsesListeleri!$K$1:$P$6,6,0),VLOOKUP($L17,ProsesListeleri!$M$1:$P$6,4,0),VLOOKUP($M17,ProsesListeleri!$L$1:$P$6,5,0)))) -> 4 | O17: =IF($E17="","",$G17*$N17) -> 8
B18: HAMMADDE MALİYETLERİ | E18: Çok az İhtimal | F18: Şimdiye kadar Olmadı | G18: =IF($E18="","",MAX(VLOOKUP($E18,ProsesListeleri!$H$1:$P$6,9,0),(VLOOKUP($F18,ProsesListeleri!$I$1:$P$6,8,0)))) -> 2 | H18: Yok | I18: Yok | J18: Yok | K18: Yok/UY | L18: Şiddetli | M18: < 10.000 TL | N18: =IF($H18="","",(MAX(VLOOKUP($H18,ProsesListeleri!$J$1:$P$6,7,0),VLOOKUP($I18,ProsesListeleri!$J$1:$P$6,7,0),VLOOKUP($J18,ProsesListeleri!$J$1:$P$6,7,0),VLOOKUP($K18,ProsesListeleri!$K$1:$P$6,6,0),VLOOKUP($L18,ProsesListeleri!$M$1:$P$6,4,0),VLOOKUP($M18,ProsesListeleri!$L$1:$P$6,5,0)))) -> 4 | O18: =IF($E18="","",$G18*$N18) -> 8
B19: SERMAYE GÜCÜ | E19: ihtimal | F19: Son 5 yıl içinde Oldu | G19: =IF($E19="","",MAX(VLOOKUP($E19,ProsesListeleri!$H$1:$P$6,9,0),(VLOOKUP($F19,ProsesListeleri!$I$1:$P$6,8,0)))) -> 4 | H19: Yok | I19: Yok | J19: Yok | K19: Yok/UY | L19: Şiddetli | M19: > 250,000 TL | N19: =IF($H19="","",(MAX(VLOOKUP($H19,ProsesListeleri!$J$1:$P$6,7,0),VLOOKUP($I19,ProsesListeleri!$J$1:$P$6,7,0),VLOOKUP($J19,ProsesListeleri!$J$1:$P$6,7,0),VLOOKUP($K19,ProsesListeleri!$K$1:$P$6,6,0),VLOOKUP($L19,ProsesListeleri!$M$1:$P$6,4,0),VLOOKUP($M19,ProsesListeleri!$L$1:$P$6,5,0)))) -> 4 | O19: =IF($E19="","",$G19*$N19) -> 16
B20: İŞSİZLİK ORANLARI
B21: YÜKSEK ENERJİ MALİYETLERİ | E21: ihtimal | F21: Son 5 yıl içinde Oldu | G21: =IF($E21="","",MAX(VLOOKUP($E21,ProsesListeleri!$H$1:$P$6,9,0),(VLOOKUP($F21,ProsesListeleri!$I$1:$P$6,8,0)))) -> 4 | H21: Yok | I21: Yok | J21: Yok | K21: Yok/UY | L21: Şiddetli | M21: > 250,000 TL | N21: =IF($H21="","",(MAX(VLOOKUP($H21,ProsesListeleri!$J$1:$P$6,7,0),VLOOKUP($I21,ProsesListeleri!$J$1:$P$6,7,0),VLOOKUP($J21,ProsesListeleri!$J$1:$P$6,7,0),VLOOKUP($K21,ProsesListeleri!$K$1:$P$6,6,0),VLOOKUP($L21,ProsesListeleri!$M$1:$P$6,4,0),VLOOKUP($M21,ProsesListeleri!$L$1:$P$6,5,0)))) -> 4 | O21: =IF($E21="","",$G21*$N21) -> 16
A22: SOSYAL | B22: SOSYAL MEDYA VE REKLAM MECRALARININ ARTMASI | E22: ihtimal | F22: Son 5 yıl içinde Oldu | G22: =IF($E22="","",MAX(VLOOKUP($E22,ProsesListeleri!$H$1:$P$6,9,0),(VLOOKUP($F22,ProsesListeleri!$I$1:$P$6,8,0)))) -> 4 | H22: Yok | I22: Yok | J22: Yok | K22: Yok/UY | L22: Şiddetli | M22: > 250,000 TL | N22: =IF($H22="","",(MAX(VLOOKUP($H22,ProsesListeleri!$J$1:$P$6,7,0),VLOOKUP($I22,ProsesListeleri!$J$1:$P$6,7,0),VLOOKUP($J22,ProsesListeleri!$J$1:$P$6,7,0),VLOOKUP($K22,ProsesListeleri!$K$1:$P$6,6,0),VLOOKUP($L22,ProsesListeleri!$M$1:$P$6,4,0),VLOOKUP($M22,ProsesListeleri!$L$1:$P$6,5,0)))) -> 4 | O22: =IF($E22="","",$G22*$N22) -> 16
B23: NÜFUS ARTIŞIYLA İHTİYAÇLARIN ARTMASI | E23: ihtimal | F23: Son 5 yıl içinde Oldu | G23: =IF($E23="","",MAX(VLOOKUP($E23,ProsesListeleri!$H$1:$P$6,9,0),(VLOOKUP($F23,ProsesListeleri!$I$1:$P$6,8,0)))) -> 4 | H23: Yok | I23: Yok | J23: Yok | K23: Yok/UY | L23: Şiddetli | M23: > 250,000 TL | N23: =IF($H23="","",(MAX(VLOOKUP($H23,ProsesListeleri!$J$1:$P$6,7,0),VLOOKUP($I23,ProsesListeleri!$J$1:$P$6,7,0),VLOOKUP($J23,ProsesListeleri!$J$1:$P$6,7,0),VLOOKUP($K23,ProsesListeleri!$K$1:$P$6,6,0),VLOOKUP($L23,ProsesListeleri!$M$1:$P$6,4,0),VLOOKUP($M23,ProsesListeleri!$L$1:$P$6,5,0)))) -> 4 | O23: =IF($E23="","",$G23*$N23) -> 16
B24: HİJYEN ALGISININ ARTMASI | E24: ihtimal | F24: Son 5 yıl içinde Oldu | G24: =IF($E24="","",MAX(VLOOKUP($E24,ProsesListeleri!$H$1:$P$6,9,0),(VLOOKUP($F24,ProsesListeleri!$I$1:$P$6,8,0)))) -> 4 | H24: Yok | I24: Yok | J24: Yok | K24: Yok/UY | L24: Şiddetli | M24: > 250,000 TL | N24: =IF($H24="","",(MAX(VLOOKUP($H24,ProsesListeleri!$J$1:$P$6,7,0),VLOOKUP($I24,ProsesListeleri!$J$1:$P$6,7,0),VLOOKUP($J24,ProsesListeleri!$J$1:$P$6,7,0),VLOOKUP($K24,ProsesListeleri!$K$1:$P$6,6,0),VLOOKUP($L24,ProsesListeleri!$M$1:$P$6,4,0),VLOOKUP($M24,ProsesListeleri!$L$1:$P$6,5,0)))) -> 4 | O24: =IF($E24="","",$G24*$N24) -> 16
B25: GELİR DÜZEYİNİN ARTMASI | E25: ihtimal | F25: Son 5 yıl içinde Oldu | G25: =IF($E25="","",MAX(VLOOKUP($E25,ProsesListeleri!$H$1:$P$6,9,0),(VLOOKUP($F25,ProsesListeleri!$I$1:$P$6,8,0)))) -> 4 | H25: Yok | I25: Yok | J25: Yok | K25: Yok/UY | L25: Şiddetli | M25: > 250,000 TL | N25: =IF($H25="","",(MAX(VLOOKUP($H25,ProsesListeleri!$J$1:$P$6,7,0),VLOOKUP($I25,ProsesListeleri!$J$1:$P$6,7,0),VLOOKUP($J25,ProsesListeleri!$J$1:$P$6,7,0),VLOOKUP($K25,ProsesListeleri!$K$1:$P$6,6,0),VLOOKUP($L25,ProsesListeleri!$M$1:$P$6,4,0),VLOOKUP($M25,ProsesListeleri!$L$1:$P$6,5,0)))) -> 4 | O25: =IF($E25="","",$G25*$N25) -> 16
B26: LÜKS TÜKETİM EĞİLİMİNİN ARTMASI | E26: Çok az İhtimal | F26: Şimdiye kadar Olmadı | G26: =IF($E26="","",MAX(VLOOKUP($E26,ProsesListeleri!$H$1:$P$6,9,0),(VLOOKUP($F26,ProsesListeleri!$I$1:$P$6,8,0)))) -> 2 | H26: Yok | I26: Yok | J26: Yok | K26: Yok/UY | L26: Şiddetli | M26: < 10.000 TL | N26: =IF($H26="","",(MAX(VLOOKUP($H26,ProsesListeleri!$J$1:$P$6,7,0),VLOOKUP($I26,ProsesListeleri!$J$1:$P$6,7,0),VLOOKUP($J26,ProsesListeleri!$J$1:$P$6,7,0),VLOOKUP($K26,ProsesListeleri!$K$1:$P$6,6,0),VLOOKUP($L26,ProsesListeleri!$M$1:$P$6,4,0),VLOOKUP($M26,ProsesListeleri!$L$1:$P$6,5,0)))) -> 4 | O26: =IF($E26="","",$G26*$N26) -> 8
B27: SAĞLIK BİLİNCİ
B28: EĞİTİM SEVİYESİ | E28: Çok az İhtimal | F28: Şimdiye kadar Olmadı | G28: =IF($E28="","",MAX(VLOOKUP($E28,ProsesListeleri!$H$1:$P$6,9,0),(VLOOKUP($F28,ProsesListeleri!$I$1:$P$6,8,0)))) -> 2 | H28: Yok | I28: Yok | J28: Yok | K28: Yok/UY | L28: Şiddetli | M28: < 10.000 TL | N28: =IF($H28="","",(MAX(VLOOKUP($H28,ProsesListeleri!$J$1:$P$6,7,0),VLOOKUP($I28,ProsesListeleri!$J$1:$P$6,7,0),VLOOKUP($J28,ProsesListeleri!$J$1:$P$6,7,0),VLOOKUP($K28,ProsesListeleri!$K$1:$P$6,6,0),VLOOKUP($L28,ProsesListeleri!$M$1:$P$6,4,0),VLOOKUP($M28,ProsesListeleri!$L$1:$P$6,5,0)))) -> 4 | O28: =IF($E28="","",$G28*$N28) -> 8
B29: ÇEVREYE DUYARLI NESİLLERİN ELEKTRİKLİ ARAÇ VEYA ALTERNATİF ULAŞIM ARAÇLARINI KULLANMALARI(SCOTTER,BİSİKLET)
B30: COVİD-19 SALGIN SONRASI İNSANLARIN TOPLU ARAÇLARDAN BİREYSEL ARAÇ ALTERNATFİLERİE DÖNMESİ
B31: YAŞAM BİÇİMİ | E31: Çok az İhtimal | F31: Şimdiye kadar Olmadı | G31: =IF($E31="","",MAX(VLOOKUP($E31,ProsesListeleri!$H$1:$P$6,9,0),(VLOOKUP($F31,ProsesListeleri!$I$1:$P$6,8,0)))) -> 2 | H31: Yok | I31: Yok | J31: Yok | K31: Yok/UY | L31: Şiddetli | M31: < 10.000 TL | N31: =IF($H31="","",(MAX(VLOOKUP($H31,ProsesListeleri!$J$1:$P$6,7,0),VLOOKUP($I31,ProsesListeleri!$J$1:$P$6,7,0),VLOOKUP($J31,ProsesListeleri!$J$1:$P$6,7,0),VLOOKUP($K31,ProsesListeleri!$K$1:$P$6,6,0),VLOOKUP($L31,ProsesListeleri!$M$1:$P$6,4,0),VLOOKUP($M31,ProsesListeleri!$L$1:$P$6,5,0)))) -> 4 | O31: =IF($E31="","",$G31*$N31) -> 8
A32: TEKKNOLOJİ | B32: OTOMASYON SEVİYESİNİN ARTMASI | E32: Çok az İhtimal | F32: Şimdiye kadar Olmadı | G32: =IF($E32="","",MAX(VLOOKUP($E32,ProsesListeleri!$H$1:$P$6,9,0),(VLOOKUP($F32,ProsesListeleri!$I$1:$P$6,8,0)))) -> 2 | H32: Yok | I32: Yok | J32: Yok | K32: Yok/UY | L32: Şiddetli | M32: < 10.000 TL | N32: =IF($H32="","",(MAX(VLOOKUP($H32,ProsesListeleri!$J$1:$P$6,7,0),VLOOKUP($I32,ProsesListeleri!$J$1:$P$6,7,0),VLOOKUP($J32,ProsesListeleri!$J$1:$P$6,7,0),VLOOKUP($K32,ProsesListeleri!$K$1:$P$6,6,0),VLOOKUP($L32,ProsesListeleri!$M$1:$P$6,4,0),VLOOKUP($M32,ProsesListeleri!$L$1:$P$6,5,0)))) -> 4 | O32: =IF($E32="","",$G32*$N32) -> 8
B33: İLETİŞİMDEKİ YENİLİKLER | E33: Çok az İhtimal | F33: Şimdiye kadar Olmadı | G33: =IF($E33="","",MAX(VLOOKUP($E33,ProsesListeleri!$H$1:$P$6,9,0),(VLOOKUP($F33,ProsesListeleri!$I$1:$P$6,8,0)))) -> 2 | H33: Yok | I33: Yok | J33: Yok | K33: Yok/UY | L33: Şiddetli | M33: < 10.000 TL | N33: =IF($H33="","",(MAX(VLOOKUP($H33,ProsesListeleri!$J$1:$P$6,7,0),VLOOKUP($I33,ProsesListeleri!$J$1:$P$6,7,0),VLOOKUP($J33,ProsesListeleri!$J$1:$P$6,7,0),VLOOKUP($K33,ProsesListeleri!$K$1:$P$6,6,0),VLOOKUP($L33,ProsesListeleri!$M$1:$P$6,4,0),VLOOKUP($M33,ProsesListeleri!$L$1:$P$6,5,0)))) -> 4 | O33: =IF($E33="","",$G33*$N33) -> 8
B34: SUNUCU VEYA İNTERNET MALİYETLERİ | E34: Çok az İhtimal | F34: Şimdiye kadar Olmadı | G34: =IF($E34="","",MAX(VLOOKUP($E34,ProsesListeleri!$H$1:$P$6,9,0),(VLOOKUP($F34,ProsesListeleri!$I$1:$P$6,8,0)))) -> 2 | H34: Yok | I34: Yok | J34: Yok | K34: Yok/UY | L34: Şiddetli | M34: < 10.000 TL | N34: =IF($H34="","",(MAX(VLOOKUP($H34,ProsesListeleri!$J$1:$P$6,7,0),VLOOKUP($I34,ProsesListeleri!$J$1:$P$6,7,0),VLOOKUP($J34,ProsesListeleri!$J$1:$P$6,7,0),VLOOKUP($K34,ProsesListeleri!$K$1:$P$6,6,0),VLOOKUP($L34,ProsesListeleri!$M$1:$P$6,4,0),VLOOKUP($M34,ProsesListeleri!$L$1:$P$6,5,0)))) -> 4 | O34: =IF($E34="","",$G34*$N34) -> 8
B35: İNOVASTONLAR | E35: Çok az İhtimal | F35: Şimdiye kadar Olmadı | G35: =IF($E35="","",MAX(VLOOKUP($E35,ProsesListeleri!$H$1:$P$6,9,0),(VLOOKUP($F35,ProsesListeleri!$I$1:$P$6,8,0)))) -> 2 | H35: Yok | I35: Yok | J35: Yok | K35: Yok/UY | L35: Şiddetli | M35: < 10.000 TL | N35: =IF($H35="","",(MAX(VLOOKUP($H35,ProsesListeleri!$J$1:$P$6,7,0),VLOOKUP($I35,ProsesListeleri!$J$1:$P$6,7,0),VLOOKUP($J35,ProsesListeleri!$J$1:$P$6,7,0),VLOOKUP($K35,ProsesListeleri!$K$1:$P$6,6,0),VLOOKUP($L35,ProsesListeleri!$M$1:$P$6,4,0),VLOOKUP($M35,ProsesListeleri!$L$1:$P$6,5,0)))) -> 4 | O35: =IF($E35="","",$G35*$N35) -> 8
B36: ÜRETİLEN YENİ TEKNOLOJİLER | E36: Çok az İhtimal | F36: Şimdiye kadar Olmadı | G36: =IF($E36="","",MAX(VLOOKUP($E36,ProsesListeleri!$H$1:$P$6,9,0),(VLOOKUP($F36,ProsesListeleri!$I$1:$P$6,8,0)))) -> 2 | H36: Yok | I36: Yok | J36: Yok | K36: Yok/UY | L36: Şiddetli | M36: < 10.000 TL | N36: =IF($H36="","",(MAX(VLOOKUP($H36,ProsesListeleri!$J$1:$P$6,7,0),VLOOKUP($I36,ProsesListeleri!$J$1:$P$6,7,0),VLOOKUP($J36,ProsesListeleri!$J$1:$P$6,7,0),VLOOKUP($K36,ProsesListeleri!$K$1:$P$6,6,0),VLOOKUP($L36,ProsesListeleri!$M$1:$P$6,4,0),VLOOKUP($M36,ProsesListeleri!$L$1:$P$6,5,0)))) -> 4 | O36: =IF($E36="","",$G36*$N36) -> 8
B37: MÜŞTERİYE KOLAY ULAŞMA | E37: Çok az İhtimal | F37: Şimdiye kadar Olmadı | G37: =IF($E37="","",MAX(VLOOKUP($E37,ProsesListeleri!$H$1:$P$6,9,0),(VLOOKUP($F37,ProsesListeleri!$I$1:$P$6,8,0)))) -> 2 | H37: Yok | I37: Yok | J37: Yok | K37: Yok/UY | L37: Şiddetli | M37: < 10.000 TL | N37: =IF($H37="","",(MAX(VLOOKUP($H37,ProsesListeleri!$J$1:$P$6,7,0),VLOOKUP($I37,ProsesListeleri!$J$1:$P$6,7,0),VLOOKUP($J37,ProsesListeleri!$J$1:$P$6,7,0),VLOOKUP($K37,ProsesListeleri!$K$1:$P$6,6,0),VLOOKUP($L37,ProsesListeleri!$M$1:$P$6,4,0),VLOOKUP($M37,ProsesListeleri!$L$1:$P$6,5,0)))) -> 4 | O37: =IF($E37="","",$G37*$N37) -> 8
B38: AR-GE FAALİYETLERİ | E38: Çok az İhtimal | F38: Şimdiye kadar Olmadı | G38: =IF($E38="","",MAX(VLOOKUP($E38,ProsesListeleri!$H$1:$P$6,9,0),(VLOOKUP($F38,ProsesListeleri!$I$1:$P$6,8,0)))) -> 2 | H38: Yok | I38: Yok | J38: Yok | K38: Yok/UY | L38: Şiddetli | M38: < 10.000 TL | N38: =IF($H38="","",(MAX(VLOOKUP($H38,ProsesListeleri!$J$1:$P$6,7,0),VLOOKUP($I38,ProsesListeleri!$J$1:$P$6,7,0),VLOOKUP($J38,ProsesListeleri!$J$1:$P$6,7,0),VLOOKUP($K38,ProsesListeleri!$K$1:$P$6,6,0),VLOOKUP($L38,ProsesListeleri!$M$1:$P$6,4,0),VLOOKUP($M38,ProsesListeleri!$L$1:$P$6,5,0)))) -> 4 | O38: =IF($E38="","",$G38*$N38) -> 8
A39: YASAL | B39: İŞ KANUNU | E39: Çok az İhtimal | F39: Şimdiye kadar Olmadı | G39: =IF($E39="","",MAX(VLOOKUP($E39,ProsesListeleri!$H$1:$P$6,9,0),(VLOOKUP($F39,ProsesListeleri!$I$1:$P$6,8,0)))) -> 2 | H39: Yok | I39: Yok | J39: Yok | K39: Yok/UY | L39: Şiddetli | M39: < 10.000 TL | N39: =IF($H39="","",(MAX(VLOOKUP($H39,ProsesListeleri!$J$1:$P$6,7,0),VLOOKUP($I39,ProsesListeleri!$J$1:$P$6,7,0),VLOOKUP($J39,ProsesListeleri!$J$1:$P$6,7,0),VLOOKUP($K39,ProsesListeleri!$K$1:$P$6,6,0),VLOOKUP($L39,ProsesListeleri!$M$1:$P$6,4,0),VLOOKUP($M39,ProsesListeleri!$L$1:$P$6,5,0)))) -> 4 | O39: =IF($E39="","",$G39*$N39) -> 8
B40: TİCARET KANUNU | E40: Çok az İhtimal | F40: Şimdiye kadar Olmadı | G40: =IF($E40="","",MAX(VLOOKUP($E40,ProsesListeleri!$H$1:$P$6,9,0),(VLOOKUP($F40,ProsesListeleri!$I$1:$P$6,8,0)))) -> 2 | H40: Yok | I40: Yok | J40: Yok | K40: Yok/UY | L40: Şiddetli | M40: < 10.000 TL | N40: =IF($H40="","",(MAX(VLOOKUP($H40,ProsesListeleri!$J$1:$P$6,7,0),VLOOKUP($I40,ProsesListeleri!$J$1:$P$6,7,0),VLOOKUP($J40,ProsesListeleri!$J$1:$P$6,7,0),VLOOKUP($K40,ProsesListeleri!$K$1:$P$6,6,0),VLOOKUP($L40,ProsesListeleri!$M$1:$P$6,4,0),VLOOKUP($M40,ProsesListeleri!$L$1:$P$6,5,0)))) -> 4 | O40: =IF($E40="","",$G40*$N40) -> 8
...

Sheet ProsesListeleri
B1: Type | C1: Priority | D1: Önlem/Kontrol | E1: ÖnYargı | F1: Prosesler | H1: Olasılık | I1: Olay | J1: Potasiyel | K1: Violation | L1: Düzeltme | M1: Şöhret | N1: Maliyet | O1: Şöhret | P1: Puan | Q1: Başarı
B2: Dış | C2: Acil | D2: Çalışma Yok YGG uyarınca Riskin Kabullenilmesi | E2: Fırsat | F2: VERGİLER | H2: Olamaz | I2: Şimdiye kadar Olmadı | J2: Yok | K2: Yok/UY | L2: 0 or N/A | M2: Etkisiz | N2: 0 or N/A | O2: Etikisi yok | P2: 1 | Q2: Beklentiler aşıldı
B3: İç | C3: Yüksek | D3: Risk Kaydı / FMEA olarak | E3: Risk | F3: MALİYE POLİTİKALARI | H3: Çok az İhtimal | I3: Son 10 Yılda Olmadı | J3: Küçük | K3: Mümkün | L3: < 10.000 TL | M3: Az | N3: < 10.000 TL | O3: Az Etki | P3: 2 | Q3: Bütün Beklentiler karşılandı
C4: Orta Karar | D4: Kök Neden çözümlemesi | E4: Nötral | F4: TEŞVİKLER | H4: Az ihtimal | I4: Son 10 yıl içinde oldu | J4: OrtaKarar | K4: Kesin | L4: < 50.000 TL | M4: Ortakarar | N4: < 50.000 TL | O4: Orta karar etki | P4: 3 | Q4: Bazı Beklentileri karşıladı
C5: Düşük | D5: İç Denetim | E5: Karışık | F5: KREDİLER | H5: ihtimal | I5: Son 5 yıl içinde Oldu | J5: Yüksek | K5: Yüksek | L5: > 250,000 TL | M5: Şiddetli | N5: > 250,000 TL | O5: Olumlu Etki | P5: 4 | Q5: Fırsattan vazgeçildi
D6: Düzeltici İşlem (CA) | F6: ULUSLARARASI İLİŞKİLER | H6: Büyük İhtimal | I6: Geçen Yıl Oldu | J6: Çok Yüksek | K6: Yasal Risk | L6: > 500,000 TL | M6: Çok Şiddetli | N6: > 500,000 TL | O6: Büyük Etki | P6: 5 | Q6: Fırsat Gerçekleştirilemedi
D7: Tedarikçi Denetimi | F7: SEÇİM SONUÇLARI
D8: Diğer Denetim | F8: İTHALAT POLİTİKALARI
D9: YGG İnceleme Faaliyeti | F9: AŞIRI PİYASA PARAMETRE DALGALANMALARI
D10: Pazarlama Geliştirme | F10: ENFLASYON BEKLENTİSİ
D11: Diğer Denetim | F11: DÖVİZDEKİ KUR DALGALANMALARI
F12: DÜNYA BORSALARININ TÜRKİYE FAİZ VE KREDİ NOTLARI
F13: VERGİ ORANLARI
F14: İŞÇİ MALİYETLERİ
F15: HAMMADDE MALİYETLERİ
F16: YÜKSEK KREDİ MALİYETLERİ
F17: SERMAYE GÜCÜ
F18: YÜKSEK ENERJİ MALİYETLERİ
F19: SOSYAL MEDYA VE REKLAM MECRALARININ ARTMASI
F20: NÜFUS ARTIŞIYLA İHTİYAÇLARIN ARTMASI
F21: HİJYEN ALGISININ ARTMASI
F22: GELİR DÜZEYİNİN ARTMASI
F23: LÜKS TÜKETİM EĞİLİMİNİN ARTMASI
... F45: ÇEVRE DOSTU ÜRÜN VE UYGULAMALAR

Sheet PROSEDÜR
A2: 1. Risk Belirleme Faaliyetleri 2. Risk Belirleme Yöntemi Risk ve fırsatlar belirlenirken; -dahili analiz - iç-dış hususlar, -eski veriler - ilgili tarafların ihtiyaç ve beklentileri, -beyin fırtınası - müşteri şartları ve yasal şartlar, -iş akış analizi - önemli çevre boyutları, - çevresel etkisi olan potansiyel acil durumlar - uygunluk yükümlülükleri dikkate alınır.
A17: 3. RİSK/FIRSAT TÜRLERİNİN TESPİT EDİLMESİ
A18: a. Stratejik risk:M TECHNIC PLASTİK'i kısa, orta ya da uzun vadede belirlemiş olduğu amaç ve hedefleri doğrudan olumsuz etkileyebilecek risklerdir. (Kurumsal yönetim, yatırımlar, Pazar dinamikleri, planlama ve kaynak yönetimi, birleşmeler ve satınalmalar)
A19: b. Yasal Risk: Kanunların ve yasal düzenlemelerin değişmesinden kaynaklanan riskler ile yetersiz ya da yanlış bilgi ve dokümantasyon nedeniyle yaşanan yasal uyuşmazlıklar, yükümlülüklerin yerine getirilmesi konusundaki belirsizlik, düzenlemelerin yanlış yorumlanması veya personelin bu yükümlülükleri zamanında yerine getirmemesinden kaynaklanan risklerdir. (davranış kuralları, yasal yükümlülükler, mevzuat)
A20: c. Finansal Risk: Finansal kayıp olasılığı taşıyan tehditleri ifade etmekte olup, mali konularda olumsuz bir etkiye neden olabilecek potansiyel olay, koşul ya da durumlardan oluşur. (Pazar, likidite ve kredi, muhasebe ve raporlama, vergi, sermaye yapısı)
A21: d. Operasyonel Risk: Yetersiz sistemlerden, süreçlerden veya çalışanlardan kaynaklanabilecek kayıpların gerçekleşme riskidir. İş süreçleri, sistemler, faaliyetler ve işlemlerdeki hatalar, verimsizlikler, ihmaller, suiistimaller, kapasite sorunları bu kapsamda ele alınır. (satış ve pazarlama, üretim, dış tedarik, insan kaynağı, fiziksel çevre, tehlikeler)
A22: e. Prestij riski: Medyaya yansıması halinde lokal, ulusal ya da uluslar arası haber olma durumu ve itibar kaybı (iletişim ve paydaş yönetimi, itibar ve marka)
A25: 4. RİSKLERİN DEĞERLENDİRİLMESİ
B27: RİSK=OLASILIK X ETKİ
A30: Olasılık Puanı
A31: 5 | B31: Çok Yüksek. Risk her an olabilir. Kontrol edilememesi durumunda | C31: >=90% | D31: Her gün
A32: 4 | B32: Yüksek. Önemli derecede kontrol ve risk yönetimine ihtiyaç var. | C32: 51-90% | D32: Haftada 1
A33: 3 | B33: Orta Derece. Risk az da olsa mevcut. Hazırlıklı olmalı. İzlenmeli. | C33: 11-50% | D33: Ayda 1
A34: 2 | B34: Küçük. Risk çok az. Alınan önlemler yeterli. Mevcut kontrol sistemini sürdürün. | C34: 3-10% | D34: Yılda birkaç kez
A35: 1 | B35: Çok Küçük. Risk beklenmiyor, olma olasılığı çok zayıf. | C35: <=3% | D35: Yılda 1
A39: *Risk hesaplamasında; en yüksek etki puanı dikkate alınacaktır.
A40: *Etki Puanı | C40: Uyum yükümlülük etkisi | D40: Ürün kalitesine etkisi | E40: Maddi kayıp (yıllık) | F40: Prestij kaybı | G40: İş Duruşu
A41: 1 | B41: Çok hafif | C41: Herhangi bir kayıp yok | D41: Yeniden işleme | E41: Önemsiz (10.000 TL ve altı) | F41: Medyaya yansımaz, hızlıca önlenebilir | G41: 1 saatlik
A42: 2 | B42: Hafif | C42: Kayda değer bir zarar ve kayıp yok, kıymetsiz. | D42: Tolerans Dışı üretim | E42: Düşük (50.000=> - 10.000 arası) | F42: Minimum bölgesel medya ilgisi, kısa dönemde önlenebilir | G42: 1 vardiya
A43: 3 | B43: Orta derecede | C43: Zarar var ancak telafisi mümkün | D43: Müşteri Şikayeti | E43: Önemli (100.000=> - 50.000) | F43: Bölgesel medyada ilgisi, Resmi ve dokümente edilmiş plan ile önleme ve iyileştirme | G43: 1 gün
A44: 4 | B44: Ciddi | C44: Önemli zarar var, kayıp yüksek. | D44: Müşteri Şikayeti | E44: Ciddi (100.000-1.000.000) | F44: Ulusal medya ilgisi, uzun dönemde önlenebilir | G44: 1 hafta
A45: 5 | B45: Çok Ciddi. | C45: Telafisi mümkün olmayacak kadar büyük zarar | D45: Müşteri kaybı | E45: Çok ciddi (1.000.000 Tl ve üzeri) | F45: Ulusal ve Uluslar arası medyada duyulur Önemli itibar kaybı; Kamu ve Resmi Kurumlardan Red | G45: 1 haftadan çok
A49: 5. RİSKE CEVAP VERME YÖNTEMİ
A51: RİSK MATRİSİ | C51: ETKİ
C52: ÇOK CİDDİ | D52: CİDDİ | E52: ÖNEMLİ | F52: DÜŞÜK | G52: ÖNEMSİZ
C53: 5 | D53: 4 | E53: 3 | F53: 2 | G53: 1
A54: OLASILIK | B54: KESİN | C54: KABUL EDİLEMEZ | D54: ÇOK YÜKSEK | E54: YÜKSEK | F54: YÜKSEK | G54: ORTA
B55: 5 | C55: 25 | D55: 20 | E55: 15 | F55: 10 | G55: 5
B56: YÜKSEK | C56: ÇOK YÜKSEK | D56: ÇOK YÜKSEK | E56: YÜKSEK | F56: ORTA | G56: DÜŞÜK
B57: 4 | C57: 20 | D57: 16 | E57: 12 | F57: 8 | G57: 4
B58: OLASI | C58: YÜKSEK | D58: YÜKSEK | E58: ORTA | F58: ORTA | G58: DÜŞÜK
B59: 3 | C59: 15 | D59: 12 | E59: 9 | F59: 6 | G59: 3
B60: DÜŞÜK | C60: YÜKSEK | D60: ORTA | E60: ORTA | F60: DÜŞÜK | G60: DÜŞÜK
B61: 2 | C61: 10 | D61: 8 | E61: 6 | F61: 4 | G61: 2
B62: ÇOK DÜŞÜK | C62: ORTA | D62: DÜŞÜK | E62: DÜŞÜK | F62: DÜŞÜK | G62: KABUL EDİLEBİLİR
B63: 1 | C63: 5 | D63: 4 | E63: 3 | F63: 2 | G63: 1
B65: RİSKE CEVAP VERME
B67: KABUL EDİLEMEZ RİSK | C67: 25 | D67: Faaliyetten vazgeç/Acil aksiyon alıp, 1 ay içinde risk puanı düşürülmelidir.
B68: ÇOK YÜKSEK RİSK | C68: 20, 16 | D68: Kontrol et/Hemen aksiyon alıp, 3 ay içinde risk puanı düşürülmelidir
B69: YÜKSEK RİSK | C69: 15, 12, 10 | D69: Kontrol et/Mümkün olduğunca çabuk aksiyon alıp, 6 ay içinde risk puanı düşürülmelidir.
...

Sheet EK-1 SORULAR
B1: EK-1 RİSK BELİRLEMEYE YÖNELİK SORULAR
B2: 1- Stratejik ve operasyonel sonuçlara ulaşmayı engelleyen nelerdir? 2- Mevcut kaynakların kaybedilmesi veya ciddi boyutta zarar görmesine neden olabilecek şeyler nelerdir? 3- İş sürekliliğini kesintiye uğratabilecek olaylar nelerdir? 4- Çevresel unsurlardaki olası değişimlerin sürece olumsuz yansımaları neler olabilir? 5- Operasyonların verimli çalışmasını neler engelleyebilir? 6- Kaynakların ekonomik kullanılmasına engel olabilecek durumlar nelerdir? 7- Hangi olağandışı durumlar operasyonları tehdit edebilir? 8- Hangi koşullarda prestij kaybı ile karşılaşılabilir? 9- Hangi koşullarda yasal müeyyideler ile karşı karşıya kalabiliriz? 10- Süreçteki faaliyetlerin amaç ve hedeflerden uzaklaşmasına neden olacak zafiyetler nelerdir? 11- Bütçeden sapmaya neden olabilecek faktörler nelerdir? 12- Finansal ve operasyonel raporların hatalı, eksik veya tutarsız olmasına neden olabilecek şeyler nelerdir? 13- Proses içi ve dışı iletişimi kesintiye uğratacak şeyler nelerdir? 14- Prosesin tam kapasite ile çalışmasına neler engel olur?
B20: OLUŞABİLECEK RİSK KONULARI
B22: 1) PERSONEL KAYNAKLI (Kilit personel değişikliği, personel sayısı vb.)
B23: 2) YETKİNLİK KAYNAKLI (Personelin eğitimisiz olması, tecrübesiz olması, fiziksel ve sağlık durumu, yetenekleri ve becerileri vb., kurumun yetenekleri)
B24: 3) MAKİNE, EKİPMAN, TEKNOLOJİ KAYNAKLI (yetersiz ekipman, eski teknoloji, sık sık arızalanan makine vb. durumlar)
B25: 4) YASAL MEVZUATIN/STANDARDIN YERİNE GETİRİLMEMESİ KAYNAKLI (mevcut durumun şartlara uygun olmaması, para cezası, iş durdurma kapatma cezaları vb)
B26: 5)MALZEME TEDARİĞİ VE SATINALMA (termine uymama, eksik hasarlı ürün teslim etme, tek el olması, kritik hammaddeler, teklif sayısının yetersiz olması, ödemenin zamanında yapılmaması, tedarikçiyle sözleşme yapılmaması, eksik spesifikasyon verilmesi vb)
B27: 6) YANLIŞ/EKSİK RAPORLAMA (veri analizi eksikliği, eksik raporlama, yanlış raporlama )
B28: 7) EKSİK/YANLIŞ İLETİŞİM(müşteri ile iletişimin yetersiz olması, şikayetlere geri dönüş yapılmaması, birimler arası iletişimde eksiklik)
B29: 8) FİNANSAL SÜREÇLER (Bütçe, bilanço ve gelir, tahsilatlar, cari oran, kurlar, kredi vb.)
B30: 9) MALZEME/ÜRÜN DEPOLANMASINDAN KAYNAKLI RİSKLER (Depolama alanının uygun olmaması,depolama alanının olmaması, çevresel şartlar, hammaddenin son kullanma tarihinin dolması vb)
... B42: 21) BAKIM (Planlı bakımın yapılmaması, kök neden analizinin yapılmaması)
