Workbook

Sheet 1.dönem
A1: KALİTE MALİYETLERİ ANALİZİ
A2: KRITERLER | B2: RAPOR SORUMLUSU | C2: OCAK | D2: ŞUBAT | E2: MART | F2: 1.DÖNEM
A3: KONTROL MALİYETLERİ
A4: KALİBRASYON | B4: X
A5: DIŞ LAB. TEST & ANALİZLERİ | B5: X
A6: GKK MALİYETİ | B6: Efsun Kombak
A7: PROSES KONTROL MALİYETİ | B7: Efsun Kombak
A8: FKK MALİYETİ | B8: Efsun Kombak
A9: %100 KONTROL MALİYETİ | B9: Efsun Kombak
A10: KALİTE YÖNETİM GİDERİ | B10: X
A11: KONTROL MALİYETLERİ TOPLAMI | B11: TOPLAM | C11: =SUM(C4:C10) -> 0 | D11: =SUM(D4:D10) -> 0 | E11: =SUM(E4:E10) -> 0
A12: ÖNLEME MALİYETLERİ
A13: İÇ EĞİTİM MALİYETİ | B13: X
A14: DIŞ EĞİTİM MALİYETİ | B14: X
A15: İÇ DENETİM MALİYETİ | B15: X
A16: BELGELENDİRME MALİYETİ | B16: X
A17: KONTROL EKİPMAN MALİYETLERİ | B17: X
A18: ÖNLEYİCİ KALIP BAKIM MALİYETLERİ | B18: X
A19: ÖNLEYİCİ MAKİNE BAKIM MALİYETLERİ | B19: X
A20: ÖNLEME MALİYETLERİ TOPLAMI | B20: TOPLAM | C20: =SUM(C13:C19) -> 0 | D20: =SUM(D13:D19) -> 0 | E20: =SUM(E13:E19) -> 0 | F20: =SUM(F13:F19) -> 0
A21: BAŞARISIZLIK MALİYETLERİ
A22: TAMİR / YENİDEN İŞLEM MALİYETİ | B22: X | C22: 0 | D22: 10 | E22: 1
A23: PLANSIZ DURUŞLARIN MALİYETİ | B23: X | C23: 10 | D23: 20 | E23: 2
A24: İADE MALİYETLERİ | B24: X | C24: 20 | D24: 30 | E24: 3
A25: AŞIRI NAVLUN | B25: X | C25: 30 | D25: 40 | E25: 4
A26: HURDA GİDERLERİ | B26: X | C26: 40 | D26: 50 | E26: 5
A27: MÜŞTERİ AYIKLAMA (İŞÇİLİK) FATURALARI | B27: X | C27: 50 | D27: 60 | E27: 6
A28: MÜŞTERİ CEZA FATURALARI | B28: X
A29: MÜŞTERİ ŞİKAYETİ SONRASI ÖLÇ.ve KONTR.MAL. | B29: X
A30: BAŞARISIZLIK MALİYETLERİ TOPLAMI | B30: TOPLAM | C30: =SUM(C22:C29) -> 150 | D30: =SUM(D22:D29) -> 210 | E30: =SUM(E22:E29) -> 21 | F30: =SUM(C30:E30) -> 381
A31: GENEL TOPLAM | C31: =SUM(C11,C20,C30) -> 150 | D31: =SUM(D11,D20,D30) -> 210 | E31: =SUM(E11,E20,E30) -> 21 | F31: =SUM(F11,F20,F30) -> 381

Sheet 2.dönem
A1: ='1.dönem'!A1:F1 -> KALİTE MALİYETLERİ ANALİZİ
A2: KRITERLER | B2: RAPOR SORUMLUSU | C2: NİSAN | D2: MAYIS | E2: HAZİRAN | F2: 2.DÖNEM
A3: KONTROL MALİYETLERİ
A4: KALİBRASYON | B4: X
A5: DIŞ LAB. TEST & ANALİZLERİ | B5: X
A6: GKK MALİYETİ | B6: Efsun Kombak
A7: PROSES KONTROL MALİYETİ | B7: Efsun Kombak
A8: FKK MALİYETİ | B8: Efsun Kombak
A9: %100 KONTROL MALİYETİ | B9: Efsun Kombak
A10: KALİTE YÖNETİM GİDERİ | B10: SÜLEYMAN ERBEK
A11: KONTROL MALİYETLERİ TOPLAMI | B11: TOPLAM | C11: =SUM(C4:C10) -> 0 | D11: =SUM(D4:D10) -> 0 | E11: =SUM(E4:E10) -> 0 | F11: =SUM(C11:E11) -> 0
A12: ÖNLEME MALİYETLERİ
A13: İÇ EĞİTİM MALİYETİ | B13: SÜLEYMAN ERBEK
A14: DIŞ EĞİTİM MALİYETİ | B14: X
A15: İÇ DENETİM MALİYETİ | B15: SÜLEYMAN ERBEK
A16: BELGELENDİRME MALİYETİ | B16: X
A17: KONTROL EKİPMAN MALİYETLERİ | B17: X
A18: ÖNLEYİCİ KALIP BAKIM MALİYETLERİ | B18: X
A19: ÖNLEYİCİ MAKİNE BAKIM MALİYETLERİ | B19: X
A20: ÖNLEME MALİYETLERİ TOPLAMI | B20: TOPLAM | C20: =SUM(C13:C19) -> 0 | D20: =SUM(D13:D19) -> 0 | E20: =SUM(E13:E19) -> 0 | F20: =SUM(F13:F19) -> 0
A21: BAŞARISIZLIK MALİYETLERİ
A22: TAMİR / YENİDEN İŞLEM MALİYETİ | B22: X | C22: 2718 | E22: 6954
A23: PLANSIZ DURUŞLARIN MALİYETİ | B23: X | C23: 8005 | D23: 7141 | E23: 5483
A24: İADE MALİYETLERİ | B24: SÜLEYMAN ERBEK
A25: AŞIRI NAVLUN | B25: X
A26: HURDA GİDERLERİ | B26: X | C26: 4702 | D26: 12611 | E26: 13680
A27: MÜŞTERİ AYIKLAMA (İŞÇİLİK) FATURALARI | B27: SÜLEYMAN ERBEK | D27: 3488 | E27: 8204
A28: MÜŞTERİ CEZA FATURALARI | B28: SÜLEYMAN ERBEK | E28: 13500
A29: MÜŞTERİ ŞİKAYETİ SONRASI ÖLÇ.ve KONTR.MAL. | B29: SÜLEYMAN ERBEK
A30: BAŞARISIZLIK MALİYETLERİ TOPLAMI | B30: TOPLAM | C30: =SUM(C22:C29) -> 15425 | D30: =SUM(D22:D29) -> 23240 | E30: =SUM(E22:E29) -> 47821 | F30: =SUM(C30:E30) -> 86486
A31: GENEL TOPLAM | C31: =SUM(C11,C20,C30) -> 15425 | D31: =SUM(D11,D20,D30) -> 23240 | E31: =SUM(E11,E20,E30) -> 47821 | F31: =SUM(F11,F20,F30) -> 86486

Sheet 3.dönem
A1: ='1.dönem'!A1:F1 -> KALİTE MALİYETLERİ ANALİZİ
A2: KRITERLER | B2: RAPOR SORUMLUSU | C2: TEMMUZ | D2: AĞUSTOS | E2: EYLÜL | F2: 3.DÖNEM
A3: KONTROL MALİYETLERİ
A4: KALİBRASYON | B4: X
A5: DIŞ LAB. TEST & ANALİZLERİ | B5: X
A6: GKK MALİYETİ | B6: Efsun Kombak
A7: PROSES KONTROL MALİYETİ | B7: Efsun Kombak
A8: FKK MALİYETİ | B8: Efsun Kombak
A9: %100 KONTROL MALİYETİ | B9: Efsun Kombak
A10: KALİTE YÖNETİM GİDERİ | B10: SÜLEYMAN ERBEK
A11: KONTROL MALİYETLERİ TOPLAMI | B11: TOPLAM | C11: =SUM(C4:C10) -> 0 | D11: =SUM(D4:D10) -> 0 | E11: =SUM(E4:E10) -> 0 | F11: =SUM(C11:E11) -> 0
A12: ÖNLEME MALİYETLERİ
A13: İÇ EĞİTİM MALİYETİ | B13: SÜLEYMAN ERBEK
A14: DIŞ EĞİTİM MALİYETİ | B14: X
A15: İÇ DENETİM MALİYETİ | B15: SÜLEYMAN ERBEK
A16: BELGELENDİRME MALİYETİ | B16: X
A17: KONTROL EKİPMAN MALİYETLERİ | B17: X
A18: ÖNLEYİCİ KALIP BAKIM MALİYETLERİ | B18: X
A19: ÖNLEYİCİ MAKİNE BAKIM MALİYETLERİ | B19: X
A20: ÖNLEME MALİYETLERİ TOPLAMI | B20: TOPLAM | C20: =SUM(C13:C19) -> 0 | D20: =SUM(D13:D19) -> 0 | E20: =SUM(E13:E19) -> 0 | F20: =SUM(C20:E20) -> 0
A21: BAŞARISIZLIK MALİYETLERİ
A22: TAMİR / YENİDEN İŞLEM MALİYETİ | B22: X | C22: 1390
A23: PLANSIZ DURUŞLARIN MALİYETİ | B23: X | C23: 12047
A24: İADE MALİYETLERİ | B24: SÜLEYMAN ERBEK | C24: 27075
A25: AŞIRI NAVLUN | B25: X
A26: HURDA GİDERLERİ | B26: X | C26: 2520
A27: MÜŞTERİ AYIKLAMA (İŞÇİLİK) FATURALARI | B27: SÜLEYMAN ERBEK
A28: MÜŞTERİ CEZA FATURALARI | B28: SÜLEYMAN ERBEK
A29: MÜŞTERİ ŞİKAYETİ SONRASI ÖLÇ.ve KONTR.MAL. | B29: SÜLEYMAN ERBEK
A30: BAŞARISIZLIK MALİYETLERİ TOPLAMI | B30: TOPLAM | C30: =SUM(C22:C29) -> 43032 | D30: =SUM(D22:D29) -> 0 | E30: =SUM(E22:E29) -> 0 | F30: =SUM(C30:E30) -> 43032
A31: GENEL TOPLAM | C31: =SUM(C11,C20,C30) -> 43032 | D31: =SUM(D11,D20,D30) -> 0 | E31: =SUM(E11,E20,E30) -> 0 | F31: =SUM(F11,F20,F30) -> 43032

Sheet 4.dönem
A1: ='1.dönem'!A1:F1 -> KALİTE MALİYETLERİ ANALİZİ
A2: KRITERLER | B2: RAPOR SORUMLUSU | C2: EKİM | D2: KASIM | E2: ARALIK | F2: 4.DÖNEM
A3: KONTROL MALİYETLERİ
A4: KALİBRASYON | B4: X
A5: DIŞ LAB. TEST & ANALİZLERİ | B5: X
A6: GKK MALİYETİ | B6: Efsun Kombak
A7: PROSES KONTROL MALİYETİ | B7: Efsun Kombak
A8: FKK MALİYETİ | B8: Efsun Kombak
A9: %100 KONTROL MALİYETİ | B9: Efsun Kombak
A10: KALİTE YÖNETİM GİDERİ | B10: SÜLEYMAN ERBEK
A11: KONTROL MALİYETLERİ TOPLAMI | B11: TOPLAM | C11: =SUM(C4:C10) -> 0 | D11: =SUM(D4:D10) -> 0 | E11: =SUM(E4:E10) -> 0 | F11: =SUM(C11:E11) -> 0
A12: ÖNLEME MALİYETLERİ
A13: İÇ EĞİTİM MALİYETİ | B13: X
A14: DIŞ EĞİTİM MALİYETİ | B14: X
A15: İÇ DENETİM MALİYETİ | B15: SÜLEYMAN ERBEK
A16: BELGELENDİRME MALİYETİ | B16: X
A17: KONTROL EKİPMAN MALİYETLERİ | B17: X
A18: ÖNLEYİCİ KALIP BAKIM MALİYETLERİ | B18: X
A19: ÖNLEYİCİ MAKİNE BAKIM MALİYETLERİ | B19: X
A20: ÖNLEME MALİYETLERİ TOPLAMI | B20: TOPLAM | C20: =SUM(C13:C19) -> 0 | D20: =SUM(D13:D19) -> 0 | E20: =SUM(E13:E19) -> 0 | F20: =SUM(C20:E20) -> 0
A21: BAŞARISIZLIK MALİYETLERİ
A22: TAMİR / YENİDEN İŞLEM MALİYETİ | B22: X
A23: PLANSIZ DURUŞLARIN MALİYETİ | B23: X
A24: İADE MALİYETLERİ | B24: SÜLEYMAN ERBEK
A25: AŞIRI NAVLUN | B25: X
A26: HURDA GİDERLERİ | B26: X
A27: MÜŞTERİ AYIKLAMA (İŞÇİLİK) FATURALARI | B27: SÜLEYMAN ERBEK
A28: MÜŞTERİ CEZA FATURALARI | B28: SÜLEYMAN ERBEK
A29: MÜŞTERİ ŞİKAYETİ SONRASI ÖLÇ.ve KONTR.MAL. | B29: SÜLEYMAN ERBEK
A30: BAŞARISIZLIK MALİYETLERİ TOPLAMI | B30: TOPLAM | C30: =SUM(C22:C29) -> 0 | D30: =SUM(D22:D29) -> 0 | E30: =SUM(E22:E29) -> 0 | F30: =SUM(C30:E30) -> 0
A31: GENEL TOPLAM | C31: =SUM(C11,C20,C30) -> 0 | D31: =SUM(D11,D20,D30) -> 0 | E31: =SUM(E11,E20,E30) -> 0 | F31: =SUM(F11,F20,F30) -> 0

Sheet Aylar & Dönemler
D1: KALİTE MALİYETLERİ ANALİZİ 2024
A2: AYLAR | B2: KONTROL MALİYETLERİ | E2: ORAN | F2: ÖNLEME MALİYETLERİ | I2: ORAN | J2: BAŞARISIZLIK MALİYETLERİ | M2: BAŞARISIZLIK ORAN | N2: CİRO TL
A3: Ocak | B3: =SUM('1.dönem'!C11) -> 0 | C3: 1. | D3: =SUM(B3:B5) -> 0 | E3: =B3/N3*0.1 -> 0 | F3: =SUM('1.dönem'!C20) -> 0 | G3: 1. | H3: =SUM(F3:F5) -> 0 | I3: =F3/N3*0.1 -> 0 | J3: =SUM('1.dönem'!C30) -> 150 | K3: 1. | L3: 100 | M3: =J3/N3*0.1 -> 0.0375 | N3: 400 | P3: =SUM(B3,F3,J3) -> 150 | Q3: =SUM(N3) -> 400 | R3: =P3/Q3*0.1 -> 0.0375
A4: Şubat | B4: =SUM('1.dönem'!D11) -> 0 | E4: =B4/N4*0.1 -> 0 | F4: =SUM('1.dönem'!D20) -> 0 | I4: =F4/N4*0.1 -> 0 | J4: =SUM('1.dönem'!D30) -> 210 | M4: =J4/N4*0.1 -> 0.042 | N4: 500 | P4: =SUM(B4,F4,J4) -> 210 | Q4: =SUM(N4) -> 500 | R4: =P4/Q4*0.1 -> 0.042
A5: Mart | B5: =SUM('1.dönem'!E11) -> 0 | E5: =B5/N5*0.1 -> 0 | F5: =SUM('1.dönem'!E20) -> 0 | I5: =F5/N5*0.1 -> 0 | J5: =SUM('1.dönem'!E30) -> 21 | M5: =J5/N5*0.1 -> 0.0035 | N5: 600 | P5: =SUM(B5,F5,J5) -> 21 | Q5: =SUM(N5) -> 600 | R5: =P5/Q5*0.1 -> 0.0035
A6: Nisan | B6: =SUM('2.dönem'!C11) -> 0 | C6: 2. | D6: =SUM(B6:B8) -> 0 | E6: =B6/N6*0.1 -> 0 | F6: =SUM('2.dönem'!C20) -> 0 | G6: 2. | H6: =SUM(F6:F8) -> 0 | I6: =F6/N6*0.1 -> 0 | J6: =SUM('2.dönem'!C30) -> 15425 | K6: 2. | L6: 200 | M6: =J6/N6*0.1 -> 2.2035714 | N6: 700 | P6: =SUM(B6,F6,J6) -> 15425 | Q6: =SUM(N6) -> 700 | R6: =P6/Q6*0.1 -> 2.2035714
A7: Mayıs | B7: =SUM('2.dönem'!D11) -> 0 | E7: =B7/N7*0.1 -> 0 | F7: =SUM('2.dönem'!D20) -> 0 | I7: =F7/N7*0.1 -> 0 | J7: =SUM('2.dönem'!D30) -> 23240 | M7: =J7/N7*0.1 -> 2.905 | N7: 800 | P7: =SUM(B7,F7,J7) -> 23240 | Q7: =SUM(N7) -> 800 | R7: =P7/Q7*0.1 -> 2.905
A8: Haziran | B8: =SUM('2.dönem'!E11) -> 0 | E8: =B8/N8*0.1 -> 0 | F8: =SUM('2.dönem'!E20) -> 0 | I8: =F8/N8*0.1 -> 0 | J8: =SUM('2.dönem'!E30) -> 47821 | M8: =J8/N8*0.1 -> 5.3134444 | N8: 900 | P8: =SUM(B8,F8,J8) -> 47821 | Q8: =SUM(N8) -> 900 | R8: =P8/Q8*0.1 -> 5.3134444
A9: Temmuz | B9: =SUM('3.dönem'!C11) -> 0 | C9: 3. | D9: =SUM(B9:B11) -> 0 | E9: =B9/N9*0.1 -> 0 | F9: =SUM('3.dönem'!C20) -> 0 | G9: 3. | H9: =SUM(F9:F11) -> 0 | I9: =F9/N9*0.1 -> 0 | J9: =SUM('3.dönem'!C30) -> 43032 | K9: 3. | L9: 300 | M9: =J9/N9*0.1 -> 4.3032 | N9: 1000 | P9: =SUM(B9,F9,J9) -> 43032 | Q9: =SUM(N9) -> 1000 | R9: =P9/Q9*0.1 -> 4.3032
A10: Ağustos | B10: =SUM('3.dönem'!D11) -> 0 | E10: =B10/N10*0.1 -> 0 | F10: =SUM('3.dönem'!D20) -> 0 | I10: =F10/N10*0.1 -> 0 | J10: =SUM('3.dönem'!D30) -> 0 | M10: =J10/N10*0.1 -> 0 | N10: 100 | P10: =SUM(B10,F10,J10) -> 0 | Q10: =SUM(N10) -> 100 | R10: =P10/Q10*0.1 -> 0
A11: Eylül | B11: =SUM('3.dönem'!E11) -> 0 | E11: =B11/N11*0.1 -> 0 | F11: =SUM('3.dönem'!E20) -> 0 | I11: =F11/N11*0.1 -> 0 | J11: =SUM('3.dönem'!E30) -> 0 | M11: =J11/N11*0.1 -> 0 | N11: 200 | P11: =SUM(B11,F11,J11) -> 0 | Q11: =SUM(N11) -> 200 | R11: =P11/Q11*0.1 -> 0
A12: Ekim | B12: =SUM('4.dönem'!C11) -> 0 | C12: 4. | D12: =SUM(B12:B14) -> 0 | E12: =B12/N12*0.1 -> 0 | F12: =SUM('4.dönem'!C20) -> 0 | G12: 4. | H12: =SUM(F12:F14) -> 0 | I12: =F12/N12*0.1 -> 0 | J12: =SUM('4.dönem'!C30) -> 0 | K12: 4. | L12: =SUM(J12:J14) -> 0 | M12: =J12/N12*0.1 -> 0 | N12: 300 | P12: =SUM(B12,F12,J12) -> 0 | Q12: =SUM(N12) -> 300 | R12: =P12/Q12*0.1 -> 0
A13: Kasım | B13: =SUM('4.dönem'!D11) -> 0 | E13: =B13/N13*0.1 -> 0 | F13: =SUM('4.dönem'!D20) -> 0 | I13: =F13/N13*0.1 -> 0 | J13: =SUM('4.dönem'!D30) -> 0 | M13: =J13/N13*0.1 -> 0 | N13: 400 | P13: =SUM(B13,F13,J13) -> 0 | Q13: =SUM(N13) -> 400 | R13: =P13/Q13*0.1 -> 0
A14: Aralık | B14: =SUM('4.dönem'!E11) -> 0 | E14: =B14/N14*0.1 -> 0 | F14: =SUM('4.dönem'!E20) -> 0 | I14: =F14/N14*0.1 -> 0 | J14: =SUM('4.dönem'!E30) -> 0 | M14: =J14/N14*0.1 -> 0 | N14: 500 | P14: =SUM(B14,F14,J14) -> 0 | Q14: =SUM(N14) -> 500 | R14: =P14/Q14*0.1 -> 0
C15: YILLIK TOPLAM | D15: =SUM(D3:D14) -> 0 | G15: YILLIK TOPLAM | H15: =SUM(H3:H14) -> 0 | K15: YILLIK TOPLAM | L15: =SUM(L3:L14) -> 600 | M15: =J15/N15*0.1 -> 0 | N15: =SUM(N3:N14) -> 6400
M16: GENEL TOPLAM | N16: =SUM(D15)+H15+L15 -> 600

Sheet Müşteri_Ceza_ Faturaları 
A1: MÜŞTERİ CEZA FATURALARI
B2: Ocak | C2: Şubat | D2: Mart | E2: Nisan | F2: Mayıs | G2: Haziran | H2: Temmuz | I2: Ağustos | J2: Eylül | K2: Ekim | L2: Kasım | M2: Aralık
A3: TEKLAS
A4: BOREAS

Sheet Sayfa1
A3: KONTROL MALİYETLERİ | E3: Hesaplama Yöntemi | J3: Sorumlu
A4: KALİBRASYON | E4: (Fatura)
A5: DIŞ LAB. TEST & ANALİZLERİ | E5: (Fatura)
A6: GKK Maliyeti | E6: Personel Maaşı
A7: Proses Kontrol Maliyeti | E7: Personel Maaşı
A8: FKK Maliyeti | E8: Personel Maaşı
A9: %100 Kontrol Maliyeti | E9: Personel Maaşı
A11: Önleyici Makine Bakım Maliyetleri | E11: Bakım Saati x Personelin saat ücreti x Kullanılan Malzeme
A12: Eleman Aylık = 9500 tl/günlük 4 saat saat ücret = 133 tl/saat
A13: Su Analiz Kontrol= 250 tl/ay | F13: Hidrolik ve Gres yağ maliyeti = 1000 tl/ay
A17: ÖNLEME MALİYETLERİ | E17: Hesaplama Yöntemi | O17: Sorumlu
A18: İç Eğitim Maliyeti | E18: Eğitim veren kişinin saatlik ücreti x Eğitim Süresi
A19: Dış Eğitim Maliyeti | E19: (Fatura)
A20: İç Denetim | E20: Denetçinin saatlik ücreti x Saat
A21: Belgelendirme Maliyeti | E21: (Fatura)
A22: Sistem Danışmanlık Maliyeti | E22: (Fatura)
A23: Önleyici Kalıp Bakım Maliyetleri | E23: (Freedoom)
A24: Önleyici Makine Bakım Maliyetleri | E24: Bakım Saati x Personelin saat ücreti x Kullanılan Malzeme
A27: BAŞARISIZLIK MALİYETLERİ
A28: Tamir / Yeniden İşlem Maliyeti | G28: Malzeme x Parçanın birim maliyeti x Personelin saat ücreti
A29: Plansız Duruşların Maliyeti | G29: Arıza süresi x Personelin saat ücreti x Kullanılan malzeme
A30: İade Maliyetleri | G30: (Freedoom) Açılan iş emrinde kullanılan parçaların ve üretilmiş olan malzemenin maliyeti toplanarak raporlanır
A31: Aşırı Navlun | G31: İlave sevkıyat tutarı
A32: Müşteri Ayıklama Faturaları | G32: (Fatura)
A33: Müşteri Ceza Faturaları | G33: (Fatura)
A34: Müşteri Şikayet Sonrası Ölçme ve Kontrol Maliyeti (Yerinde kontrolde dahil)
