Workbook
Name AKBUDAK: '[1]0063'!$C$9
Name AKSA: '[2]ÜRÜN AĞACI'!$C$56
Name BL46CLGL05: [3]İSF!#REF!
Name ccc: #REF!
Name cccc: #REF!
Name ç: #REF!
Name ÇİNKO: #REF!
Name GISITU0: [3]İSF!#REF!
Name isma: #REF!
Name İSMAİL: '[1]0063'!$C$9
Name İSO: '[2]ÜRÜN AĞACI'!$F$53
Name k: #REF!
Name kdjdfk: #REF!
Name MGR0: [3]İSF!#REF!
Name NABIYON: '[2]ÜRÜN AĞACI'!$C$56
Name q: [4]İSF!#REF!
Name sa: #REF!
Name SABRİ: '[1]0063'!$C$9
Name sad: [5]ISF!#REF!
Name SES: #REF!
Name SPEC0: [3]İSF!#REF!
Name SPEC1: [3]İSF!#REF!
Name SPEC2: [3]İSF!#REF!
Name SPEC3: [3]İSF!#REF!
Name SPEC4: [3]İSF!#REF!
Name SPEC5: [3]İSF!#REF!
Name SPEC6: [3]İSF!#REF!
Name ŞAZİ: #REF!
Name TOOLTYPE: [3]İSF!#REF!
Name v: #REF!
Name va: '[6]0063'!$C$9
Name VAAHİT: #REF!
Name vah: #REF!
Name VAHİT: #REF!
Name w: [4]İSF!#REF!
Name ww: [5]ISF!#REF!
Name XXX: #REF!
Name XXXX: #REF!
Name yeminli: #REF!

Sheet PR1
B2: =COUNT(I:I)+6 -> 6
J4: PROSES ADI | P4: STANDART ZAMAN TABLOSU | U4: TARİH | X4: TAKT TIME | Z4: GÜNLÜK ÜRETİM TOPLAMI | AD4: KALİTE
U5: İSİM | X5: CYCLE TIME | AD5: ONAY
K6: SIRA NO | L6: İŞLEM ADI | N6: ZAMAN | R6: İŞ ZAMANI (SN)
O7: İŞ | P7: EKİPMAN | Q7: YÜRÜME
A8: =IF(P8="","",IF(N8+O8+P8>H8,B8,IF(B8+N8+O8>=H8,"",IF((B8+N8+O8+P8)<=H8,"",(B8+N8+O8+P8-H8))))) -> 0 | C8: =IF(A8="",B8,B8-A8) -> 0 | D8: =IF(N8="","",N8) | E8: =IF(P8="","",IF((B8+N8+O8)>=H8,P8,IF((B8+N8+O8+P8)<=H8,P8,(P8-A8)))) -> 1 | F8: =N22-O8 -> 29 | H8: =$Y$5 -> 0 | J8: HAZIRLIK AŞAMASI | K8: A-1 | L8: Kalıbın makine başına vinç ile al | O8: 1 | P8: 1 | Q8: 1
A9: =IF(P9="","",IF(N9+O9+P9>H9,B9,IF(B9+N9+O9>=H9,"",IF((B9+N9+O9+P9)<=H9,"",(B9+N9+O9+P9-H9))))) -> 2 | B9: =B8+N8+O8+Q8 -> 2 | C9: =IF(A9="",B9,B9-A9) -> 0 | D9: =IF(N9="","",N9) | E9: =IF(P9="","",IF((B9+N9+O9)>=H9,P9,IF((B9+N9+O9+P9)<=H9,P9,(P9-A9)))) -> 0 | H9: =$Y$5 -> 0 | K9: A-2 | L9: Kalıbın iticisini, flanşını ve ısı soketlerinin uygunluğunu kontrol et | O9: 1 | P9: 0 | Q9: 0
A10: =IF(P10="","",IF(N10+O10+P10>H10,B10,IF(B10+N10+O10>=H10,"",IF((B10+N10+O10+P10)<=H10,"",(B10+N10+O10+P10-H10))))) -> 3 | B10: =B9+N9+O9+Q9 -> 3 | C10: =IF(A10="",B10,B10-A10) -> 0 | D10: =IF(N10="","",N10) | E10: =IF(P10="","",IF((B10+N10+O10)>=H10,P10,IF((B10+N10+O10+P10)<=H10,P10,(P10-A10)))) -> 2 | H10: =$Y$5 -> 0 | K10: A-3 | L10: Hazırlık ünitesini takıp makine üzerindeki kalıbı indirirken bağlanacak kalıbı ısıt | O10: 2 | P10: 2
A11: =IF(P11="","",IF(N11+O11+P11>H11,B11,IF(B11+N11+O11>=H11,"",IF((B11+N11+O11+P11)<=H11,"",(B11+N11+O11+P11-H11))))) -> 5 | B11: =B10+N10+O10+Q10 -> 5 | C11: =IF(A11="",B11,B11-A11) -> 0 | D11: =IF(N11="","",N11) | E11: =IF(P11="","",IF((B11+N11+O11)>=H11,P11,IF((B11+N11+O11+P11)<=H11,P11,(P11-A11)))) -> 1 | H11: =$Y$5 -> 0 | J11: KALIP İNDİRME | K11: B-1 | L11: Son baskıdan sonra kalıbın yüzeylerini kalıp koruyucu ile yağla, iticiyi aradan al (Hidrolik olmayanlar için) kalıbı kapat | O11: 4 | P11: 1 | Q11: 1
A12: =IF(P12="","",IF(N12+O12+P12>H12,B12,IF(B12+N12+O12>=H12,"",IF((B12+N12+O12+P12)<=H12,"",(B12+N12+O12+P12-H12))))) | B12: =B11+N11+O11+Q11 -> 10 | C12: =IF(A12="",B12,B12-A12) -> 10 | D12: =IF(N12="","",N12) | E12: =IF(P12="","",IF((B12+N12+O12)>=H12,P12,IF((B12+N12+O12+P12)<=H12,P12,(P12-A12)))) | H12: =$Y$5 -> 0 | K12: B-2 | L12: Vinç ile kalıbı askıya al, ocağı geri çek, kalıpta bağlı pabuçları geri çek | O12: 5
A13: =IF(P13="","",IF(N13+O13+P13>H13,B13,IF(B13+N13+O13>=H13,"",IF((B13+N13+O13+P13)<=H13,"",(B13+N13+O13+P13-H13))))) | B13: =B12+N12+O12+Q12 -> 15 | C13: =IF(A13="",B13,B13-A13) -> 15 | D13: =IF(N13="","",N13) | E13: =IF(P13="","",IF((B13+N13+O13)>=H13,P13,IF((B13+N13+O13+P13)<=H13,P13,(P13-A13)))) | H13: =$Y$5 -> 0 | K13: B-3 | L13: Mengeneyi açma mesafesine kadar aç (çalışma mesafesi), kalıbı aradan alıp tanımlı alanına koy.Kalıp herhangi bir nedenden dolayı kalıphaneye gidecek ise son numunesi ile birlikte kalıphaneye teslim et. | O13: 4
A14: =IF(P14="","",IF(N14+O14+P14>H14,B14,IF(B14+N14+O14>=H14,"",IF((B14+N14+O14+P14)<=H14,"",(B14+N14+O14+P14-H14))))) | B14: =B13+N13+O13+Q13 -> 19 | C14: =IF(A14="",B14,B14-A14) -> 19 | D14: =IF(N14="","",N14) | E14: =IF(P14="","",IF((B14+N14+O14)>=H14,P14,IF((B14+N14+O14+P14)<=H14,P14,(P14-A14)))) | H14: =$Y$5 -> 0 | J14: KALIP BAĞLAMA | K14: C-1 | L14: Makine başında hazırlıkta bekleyen kalıbı alıp makine başına taşı.Bu esnada 1 kişi de bağlanacak kalıbın programını, robot aparatını ve iticisini hazırlamalı. Mengene mesafesini bağlanacak kalıbın proses ayar bilgi fişinde yer alan açma mesafesine kadar aç. Kalıbı makine arasına al, flanşını merkezle, yerine yerleştirip kalıp yükseklik mesafesini ayarla. | O14: 3
A15: =IF(P15="","",IF(N15+O15+P15>H15,B15,IF(B15+N15+O15>=H15,"",IF((B15+N15+O15+P15)<=H15,"",(B15+N15+O15+P15-H15))))) | B15: =B14+N14+O14+Q14 -> 22 | C15: =IF(A15="",B15,B15-A15) -> 22 | D15: =IF(N15="","",N15) | E15: =IF(P15="","",IF((B15+N15+O15)>=H15,P15,IF((B15+N15+O15+P15)<=H15,P15,(P15-A15)))) | H15: =$Y$5 -> 0 | K15: C-2 | L15: Makine arasında flanş ile merkezlenen kalıbın düzlemselliğini kontrol et. Öndeki 4 pabucu bağla, sonrasında hareketli tarafı aç, hidrolik olmayan kalıplar için iticiyi kalıba bağla, kontrollü kapatıp tüm pabuçlarıbağla. (Bu esnada kalıbın ısı soketlerini takıp ısınmasını sağla) | O15: 3
A16: =IF(P16="","",IF(N16+O16+P16>H16,B16,IF(B16+N16+O16>=H16,"",IF((B16+N16+O16+P16)<=H16,"",(B16+N16+O16+P16-H16))))) | B16: =B15+N15+O15+Q15 -> 25 | C16: =IF(A16="",B16,B16-A16) -> 25 | D16: =IF(N16="","",N16) | E16: =IF(P16="","",IF((B16+N16+O16)>=H16,P16,IF((B16+N16+O16+P16)<=H16,P16,(P16-A16)))) | H16: =$Y$5 -> 0 | K16: C-3 | L16: Kalıbın tüm pabuçlarını bağladıktan sonra varsa bütün itici, maça switchlerini tak , çalıştığından emin ol. Kalıbı proses bilgi fişindeki mengene mesafesine kadar aç. | O16: 3
A17: =IF(P17="","",IF(N17+O17+P17>H17,B17,IF(B17+N17+O17>=H17,"",IF((B17+N17+O17+P17)<=H17,"",(B17+N17+O17+P17-H17))))) -> 28 | B17: =B16+N16+O16+Q16 -> 28 | C17: =IF(A17="",B17,B17-A17) -> 0 | D17: =IF(N17="","",N17) | E17: =IF(P17="","",IF((B17+N17+O17)>=H17,P17,IF((B17+N17+O17+P17)<=H17,P17,(P17-A17)))) -> 4 | H17: =$Y$5 -> 0 | J17: MAÇA--İTİCİ BAĞLAMA | K17: D-1 | L17: Kalıpta hidrolik maça var ise ……… kalıp için , önce ……nolu maça hidroliklerini takıp ac, sonra ……. Nolu maça hidroliklerini takıp aç. Eğer valve gate sistemi var ise hidrolik ve hava soketlerini bağla. | P17: 4
A18: =IF(P18="","",IF(N18+O18+P18>H18,B18,IF(B18+N18+O18>=H18,"",IF((B18+N18+O18+P18)<=H18,"",(B18+N18+O18+P18-H18))))) | B18: =B17+N17+O17+Q17 -> 28 | C18: =IF(A18="",B18,B18-A18) -> 28 | D18: =IF(N18="","",N18) | E18: =IF(P18="","",IF((B18+N18+O18)>=H18,P18,IF((B18+N18+O18+P18)<=H18,P18,(P18-A18)))) | H18: =$Y$5 -> 0 | K18: D-2 | L18: İticileri ; hidrolik ise hortumlarını takıp ileri-geri kontrol et. Hidrolik değil ise makinadan stroğunu kontrol edip çalıştır. | O18: 2
A19: =IF(P19="","",IF(N19+O19+P19>H19,B19,IF(B19+N19+O19>=H19,"",IF((B19+N19+O19+P19)<=H19,"",(B19+N19+O19+P19-H19))))) | B19: =B18+N18+O18+Q18 -> 30 | C19: =IF(A19="",B19,B19-A19) -> 30 | D19: =IF(N19="","",N19) | E19: =IF(P19="","",IF((B19+N19+O19)>=H19,P19,IF((B19+N19+O19+P19)<=H19,P19,(P19-A19)))) | H19: =$Y$5 -> 0 | K19: D-3 | L19: Önceden hazıırlanan robot programını ve aparatnı ''TEACH MOD'' ' unda proses değerine kadar mengenesini açtığın kalıbın arasına indirip kontrol et. Sorun yok ise ( program OK, aparat OK ) baskıya geçmeye hazır. ( Sorun varsa çözm için sorumlulara ulaş) | O19: 3
A20: =IF(P20="","",IF(N20+O20+P20>H20,B20,IF(B20+N20+O20>=H20,"",IF((B20+N20+O20+P20)<=H20,"",(B20+N20+O20+P20-H20))))) | B20: =B19+N19+O19+Q19 -> 33 | C20: =IF(A20="",B20,B20-A20) -> 33 | D20: =IF(N20="","",N20) | E20: =IF(P20="","",IF((B20+N20+O20)>=H20,P20,IF((B20+N20+O20+P20)<=H20,P20,(P20-A20)))) | H20: =$Y$5 -> 0 | K20: E-1 | L20: Bütün hazırlıkları tamamlanan kalıbın proses uygunluğunu kontrol et (mevcut makine hafızası ve oluşturulmuş proses formu ile). Uygunsa makinayı 1 kes kustur, ard basıncı kapakt, parçayı yarım bas, tarih logosunu kontrol et, gaz kanalları ve yüzeydeki fazla kalıp koruyucu yağları alkollü pamuk ile temizle (Desenli kalıplar ve otomotiv kalıplarının yüzeylerini temizle !!! )
A21: =IF(P21="","",IF(N21+O21+P21>H21,B21,IF(B21+N21+O21>=H21,"",IF((B21+N21+O21+P21)<=H21,"",(B21+N21+O21+P21-H21))))) | B21: =B20+N20+O20+Q20 -> 33 | C21: =IF(A21="",B21,B21-A21) -> 33 | D21: =IF(N21="","",N21) | E21: =IF(P21="","",IF((B21+N21+O21)>=H21,P21,IF((B21+N21+O21+P21)<=H21,P21,(P21-A21)))) | H21: =$Y$5 -> 0 | K21: E-2 | L21: Uygun proses parametrelerinde parçayı basıp proses kalite sorumlusu arkadaşlardan onay al. Uygun ise üretime geç.
K22: GENEL | N22: =SUM(O23:Q23) -> 30
K23: ÖNCE | O23: =SUM(O8:O18) -> 28 | P23: 0 | Q23: =SUM(Q8:Q21) -> 2
K24: SONRA

Sheet Sayfa1
D2: KALIP BAĞLAMA TALİMATI | Q2: TARİH :
Q3: REV. TARİHİ
Q4: REV. NO :
B5: PARÇA ADI : | M5: HAZIRLIK AŞAMASI | P5: =SUM(Sayfa2!C11) -> 8
B6: PARÇA KODU : | M6: KALIP İNDİRME | P6: =SUM(Sayfa2!C12) -> 20
B7: KALIP KODU : | M7: KALIP BAĞLAMA | P7: =SUM(Sayfa2!C13) -> 22
B8: MAKİNE NO / TONAJ : | M8: MAÇA-İTİCİ BAĞLAMA | P8: =SUM(Sayfa2!C14) -> 7
B9: GÖZ SAYISI : | M9: BASKIYA GEÇME | P9: =SUM(Sayfa2!C15) -> 10
B38: A ) | C38: HAZIRLIK AŞAMASI
B39: Üretim programı ve iş emrinde belirtilen kalıbı ;
B40: 1) Kalıbı makine başına vinç ile al | U40: 5
B41: 2) İticisini , flanşını ve ısı soketlerinin uygunluğunu kontrol et | U41: 1
B42: 3 ) Hazırlık ünitesini takıp makine üzerindeki kalıbı indirirken bağlanacak kalıbı ısıt | U42: 2
B44: B ) | C44: KALIP İNDİRME
B45: 1 ) Son baskıdan sonra kalıbın yüzeylerini kalıp koruyucu ile yağla, iticiyi aradan al (hidrolik olmayanlar için) kalıbı kapat | U45: 5
B46: 2 ) Vinç ile kalıbı askıya al, ocağı geri çek, kalıpta bağlı pabuçları geri çek. | U46: 10
B47: 3 ) Mengeneyi açma mesafesine kadar aç (çalışma mesafesi) , kalıbı aradan alıp tanımlı alanına koy. Kalıp herhangi bir nedenden dolayı kalıphaneye gidecek ise son numunesi ile birlikte kalıphaneye teslim et | U47: 5
B49: C ) | C49: KALIP BAĞLAMA
B50: 1 ) Makine başında hazırlıkta bekleyen kalıbı alıp makine başına taşı.Bu esnada 1 kişi de bağlanacak kalıbın programını,bağlantı aparatını ve iticisini hazırlamalı.Mengene mesafesini bağlanacak kalıbın proses ayar bilgi fişinde yer alan açma mesafesine kadar aç.Kalıbı makina arasına al, flanşını merkezle, yerine yerleştirip kalıp yükseklik mesafesini ayarla. | U50: 10
B51: 2 ) Makine arasında flanş ile merkezlenen kalıbın düzlemselliğini kontrol et. Öndeki 4 pabucu bağla, sonrasında hareketli tarafı aç, hidrolik olmayan kalıplar için iticiyi kalıba bağla, kontrollü kapatıp tüm pabuçları bağla.( Bu esnada kalıbın ısı soketlerini takıp ısınmasını sağla) | U51: 10
B52: 3 ) Kalıbın bütün pabuçlarını bağladıktan sonra varsa bütün itici,maça switchlerini tak, çalıştığından emin ol.Kalıbı proses bilgi fişindeki mengene mesafesine kadar aç. | U52: 2
B54: D ) | C54: MAÇA - İTİCİ BAĞLAMA
B55: 1 ) Kalıpta hidrolik maçalar var ise ……..… kalıp için, önce ……. Maça hidroliklerini takıp aç sonra ……… nolı maça hidroliklerini takıp aç. Eğer valve gate sistemi var ise hidrolik,hava ve soketlerini bağla. | U55: 2
B56: 2 ) İticileri; hidrolik ise hortumlarını takıp ileri-geri kontrol et. Hidrolikdeğil ise makinadan stroğunu kontrol edip çalıştır. | U56: 5
B57: 3 )+ Daha önceden hazırlanan robot programı ve aparatını teach modda proses değerine kadar mengenesi açtığın kalıbın arasına indirip kontrol et. Sorun yoksa ( program uygun, aparat uygun ) baskıya geçmmeye hazır.(Sorun varsa düzeltmek için sorumlusuna ulaş. | U57: 0
B58: E ) | C58: BASKIYA GEÇME
B59: 1 ) Bütün hazırlıkları tamamlanan kalıbın proses uygunluğunu kontrol et (mevcut makine hafızası ve oluşturulmuş proses formu ile). Uygunsa makinayı 1 kez kustur, ard basıncı kapat, parçayı yarım bas , tarih logosunu kontrol et, gaz kanalları ve yüzeydeki fazla kalıp koruyucu yağları alkollü pamuk ile temizle. ( Desenli kalıplar ve otomotiv kalıplarının yüzeylerini temizleme !!! ) | U59: 5
B60: 2 ) Uygun Proses parametrelerinde parçayı basıp proses kalite sorumlusu arkadaşlardan onay al. Uygun ise üretime devam et. | U60: 5
B64: HAZIRLAYAN | G64: KONTROL EDEN | L64: ONAY VEREN | Q64: KABUL EDEN
B66: S2-FR-61 | C66: REV:0 | D66: 44511

Sheet Sayfa2
C4: A | F4: B | I4: C | L4: D | O4: E
C5: HAZIRLIK AŞAMASI | F5: KALIP İNDİRME | I5: KALIP BAĞLAMA | L5: MAÇA-İTİCİ BAĞLAMA | O5: BASKIYA GEÇME
C7: 1 | D7: =Sayfa1!U40 -> 5 | F7: 1 | G7: =Sayfa1!U45 -> 5 | I7: 1 | J7: =Sayfa1!U50 -> 10 | L7: 1 | M7: =Sayfa1!U55 -> 2 | O7: 1 | P7: =Sayfa1!U59 -> 5
C8: 2 | D8: =Sayfa1!U41 -> 1 | F8: 2 | G8: =Sayfa1!U46 -> 10 | I8: 2 | J8: =Sayfa1!U51 -> 10 | L8: 2 | M8: =Sayfa1!U56 -> 5 | O8: 2 | P8: =Sayfa1!U60 -> 5
C9: 3 | D9: =Sayfa1!U42 -> 2 | F9: 3 | G9: =Sayfa1!U47 -> 5 | I9: 3 | J9: =Sayfa1!U52 -> 2 | L9: 3 | M9: =Sayfa1!U57 -> 0 | O9: 3
B11: HAZIRLIK AŞAMASI | C11: =SUM(D7:D9) -> 8
B12: KALIP İNDİRME | C12: =SUM(G7:G9) -> 20
B13: KALIP BAĞLAMA | C13: =SUM(J7:J9) -> 22
B14: MAÇA-İTİCİ BAĞLAMA | C14: =SUM(M7:M9) -> 7
B15: BASKIYA GEÇME | C15: =SUM(P7:P9) -> 10
